BEGIN:VCALENDAR
VERSION:2.0
PRODID:-//ChamberMaster//Event Calendar 2.0//EN
METHOD:PUBLISH
X-PUBLISHED-TTL:P3D
REFRESH-INTERVAL:P3D
CALSCALE:GREGORIAN
BEGIN:VEVENT
DTSTART:20221117T223000Z
DTEND:20221118T010000Z
X-MICROSOFT-CDO-ALLDAYEVENT:FALSE
SUMMARY:Welcome Reception for SCSU Herberger Business School Dean
DESCRIPTION:Welcome the new Dean of Herberger Business School\, Dr. Katherina Pattit\n\nHear from Dean Pattit\, as well as SCSU President\, Dr. Robbyn Wacker and Nic Katona\, VP for Advancement and Alumi Engagement as they share an update from the university\, their vision for the Herberger Business School and the importance of the influence and engagement by local business leaders.\n\n\n\n*Please register here*\n\n\n\nDr. Katherina Pattit comes to the position from the University of St. Thomas where she was professor and department chair in the Ethics and Business Law Department. Pattit has served St. Thomas since 2008 with numerous leadership roles in strategic planning\; launching a departmental advisory board with leaders of Fortune 500 companies\; implementing diversity\, equity\, and inclusion initiatives\; and collaborating with Opus College of Business leadership to obtain a $900\,000 grant from US Bank to develop a business ethics resource website for small- and medium-sized businesses.
X-ALT-DESC;FMTTYPE=text/html:<span style="font-size:12px\;"><span style="font-family:verdana\;"><strong>Welcome the new Dean of Herberger Business School\, Dr. Katherina Pattit</strong><br />\nHear from Dean Pattit\, as well as SCSU President\, Dr. Robbyn Wacker and Nic Katona\, VP for Advancement and Alumi Engagement as they share an update from the university\, their vision for the Herberger Business School and the importance of the influence and engagement by local business leaders.<br />\n<br />\n<a href="https://www.falconnational.com/rsvp"><strong>*Please register here*</strong></a></span><br />\n<br />\n<span style="font-family:verdana\;"><span style="color: rgb(54\, 42\, 14)\; background-color: rgb(255\, 255\, 255)\;">Dr. Katherina Pattit comes to the position from the University of St. Thomas where she was professor and department chair in the Ethics and Business Law Department. Pattit has served St. Thomas since 2008 with numerous leadership roles in strategic planning\; launching a departmental advisory board with leaders of Fortune 500 companies\; implementing diversity\, equity\, and inclusion initiatives\; and collaborating with Opus College of Business leadership to obtain a $900\,000 grant from US Bank to develop a business ethics resource website for small- and medium-sized businesses.</span></span></span>
LOCATION:Falcon National Bank Atrium 1010 W. St. Germain Street | St. Cloud
UID:e.2754.10151
SEQUENCE:3
DTSTAMP:20260424T020737Z
URL:https://chambermaster.stcloudareachamber.com/events/details/welcome-reception-for-scsu-herberger-business-school-dean-10151
END:VEVENT

END:VCALENDAR
