BEGIN:VCALENDAR
VERSION:2.0
PRODID:-//ChamberMaster//Event Calendar 2.0//EN
METHOD:PUBLISH
X-PUBLISHED-TTL:P3D
REFRESH-INTERVAL:P3D
CALSCALE:GREGORIAN
BEGIN:VEVENT
DTSTART:20200916T163000Z
DTEND:20200916T180000Z
X-MICROSOFT-CDO-ALLDAYEVENT:FALSE
SUMMARY:Waite Park Chamber Meeting 9/16/20
DESCRIPTION:Host: Boys & Girls Clubs of Central Minnesota\n\nLocation: ZOOM Meeting\n\nSpeaker: Nick Harper ESQ\, Civic Engagement Director\, League of Women Voters Minnesota\n\nTopic: Engaged Citizenship\, Learning\, Participating\, Voting\n\n\n\nMeetings of the Waite Park Chamber are held on the third Wednesday of each month. The meetings are sponsored by local businesses and are hosted at the sponsoring business' facility or another location such as the Waite Park City Hall or via ZOOM.
X-ALT-DESC;FMTTYPE=text/html:<p><strong>Host:&nbsp\;</strong>Boys &amp\; Girls Clubs of Central Minnesota<br />\n<strong>Location:&nbsp\;</strong>ZOOM Meeting<br />\n<strong>Speaker:</strong>&nbsp\;Nick Harper ESQ\, Civic Engagement Director\, League of Women Voters Minnesota<br />\n<strong>Topic:&nbsp\;</strong>Engaged Citizenship\, Learning\, Participating\, Voting<br />\n<br />\nMeetings of the Waite Park Chamber are held on the third Wednesday of each month. The meetings are sponsored by local businesses and are hosted at the sponsoring business&rsquo\; facility or another location such as the Waite Park City Hall or via ZOOM.<br />\n<br />\n&nbsp\;</p>\n\n<p>&nbsp\;</p>\n
LOCATION:ZOOM meeting
UID:e.2754.6747
SEQUENCE:3
DTSTAMP:20260423T232451Z
URL:https://chambermaster.stcloudareachamber.com/events/details/waite-park-chamber-meeting-9-16-20-6747
END:VEVENT

END:VCALENDAR
