BEGIN:VCALENDAR
VERSION:2.0
PRODID:-//ChamberMaster//Event Calendar 2.0//EN
METHOD:PUBLISH
X-PUBLISHED-TTL:P3D
REFRESH-INTERVAL:P3D
CALSCALE:GREGORIAN
BEGIN:VEVENT
DTSTART:20190619T163000Z
DTEND:20190619T180000Z
X-MICROSOFT-CDO-ALLDAYEVENT:FALSE
SUMMARY:Waite Park Chamber Meeting 6/19/19
DESCRIPTION:Meetings of the Waite Park Chamber are held on the third Wednesday of each month. The meetings are sponsored by local businesses and are hosted at the sponsoring business' facility or another location such as the Waite Park City Hall.\n\n\n\nAll St. Cloud Area Chamber members and their guests are welcome and are encouraged to bring guests who are interested in Waite Park community issues. There is no cost to attend but you must register for lunch. Registration is easy by calling 251-2940\, ext.126\, or emailing registrations@StCloudAreaChamber.com\n\nHosted by: St. Cloud Rox Baseball\n\nLocation: Joe Faber Field\, 5001 Veterans Dr.\, St. Cloud\n\nProgram: Networking activity
X-ALT-DESC;FMTTYPE=text/html:<p>Meetings of the Waite Park Chamber are held on the third Wednesday of each month. The meetings are sponsored by local businesses and are hosted at the sponsoring business&rsquo\; facility or another location such as the Waite Park City Hall.<br />\n<br />\nAll St. Cloud Area Chamber members and their guests are welcome and are encouraged to bring guests who are interested in Waite Park community issues. There is no cost to attend but you must register for lunch. Registration is easy by calling 251-2940\, ext.126\, or emailing&nbsp\;<a href="mailto:registrations@StCloudAreaChamber.com"><font color="#0000ff"><strong>registrations@StCloudAreaChamber.com</strong></font></a></p>\n\n<p><strong>Hosted by:</strong>&nbsp\;<span style="color: rgb(51\, 51\, 51)\; font-family: sans-serif\, Arial\, Verdana\, &quot\;Trebuchet MS&quot\;\; font-size: 13px\; background-color: rgb(255\, 255\, 255)\;">St. Cloud Rox Baseball</span><br />\n<strong>Location: </strong>Joe Faber Field\, 5001 Veterans Dr.\, St. Cloud<br />\n<strong>Program:&nbsp\;</strong><span style="color: rgb(51\, 51\, 51)\; font-family: sans-serif\, Arial\, Verdana\, &quot\;Trebuchet MS&quot\;\; font-size: 13px\; background-color: rgb(255\, 255\, 255)\;">Networking activity</span><br />\n<br />\n&nbsp\;</p>\n
LOCATION:HOST: St. Cloud Rox Baseball @ Joe Faber Field\, 5001 Veterans Dr.\, St. Cloud
UID:e.2754.6065
SEQUENCE:3
DTSTAMP:20260422T031221Z
URL:https://chambermaster.stcloudareachamber.com/events/details/waite-park-chamber-meeting-6-19-19-6065
END:VEVENT

END:VCALENDAR
