BEGIN:VCALENDAR
VERSION:2.0
PRODID:-//ChamberMaster//Event Calendar 2.0//EN
METHOD:PUBLISH
X-PUBLISHED-TTL:P3D
REFRESH-INTERVAL:P3D
CALSCALE:GREGORIAN
BEGIN:VEVENT
DTSTART:20251111T223000Z
DTEND:20251112T003000Z
X-MICROSOFT-CDO-ALLDAYEVENT:FALSE
SUMMARY:Teen Career Exploring: Manufacturing
DESCRIPTION:Do you know someone 14 20 years old who is ready to see how technology\, creativity\, and problem-solving come together to build amazing things? Join us for our Manufacturing Exploring Post with Park Industries!\n\n \n\nIn this Exploring Post participants will:\n\n-Complete a project hands-on from warehouse to shipping\n\n-Work with industry professionals who design\, build\, and innovate every day\n\n-Learn about training opportunities & scholarships\n\n-Begin exploring a high-demand career field\n\n \n\nNo experience necessary just an interest in learning and trying something new. A full schedule and registration materials can be found at scoutingcmc.org/exploring. All youth must be registered to attend.
X-ALT-DESC;FMTTYPE=text/html:<div>Do you know someone 14&ndash\;20 years old who is ready to see how technology\, creativity\, and problem-solving come together to build amazing things? Join us for our Manufacturing Exploring Post with Park Industries!<br />\n&nbsp\;</div>\n\n<div>In this Exploring Post participants will:<br />\n-Complete a project hands-on from warehouse to shipping<br />\n-Work with industry professionals who design\, build\, and innovate every day<br />\n-Learn about training opportunities &amp\; scholarships<br />\n-Begin exploring a high-demand career field<br />\n&nbsp\;</div>\n\n<div>No experience necessary&mdash\;just an interest in learning and trying something new. A full schedule and registration materials can be found at&nbsp\;<a class="x1i10hfl xjbqb8w x1ejq31n x18oe1m7 x1sy0etr xstzfhl x972fbf x10w94by x1qhh985 x14e42zd x9f619 x1ypdohk xt0psk2 x3ct3a4 xdj266r x14z9mp xat24cr x1lziwak xexx8yu xyri2b x18d9i69 x1c1uobl x16tdsg8 x1hl2dhg xggy1nq x1a2a7pz xkrqix3 x1sur9pj x1fey0fg x1s688f" href="http://scoutingcmc.org/exploring?fbclid=IwZXh0bgNhZW0CMTAAYnJpZBExTHp2TlNjamJOUXJFdWtwTwEe4Ks0OWzqQIyX46Pjm2GJOpnirbZDw1lg-EhedEufICR7DCA6h9AgHFOWKp8_aem_B_rr-HuWoVX1A9WkVTN5JA" rel="nofollow noreferrer" style="color: rgb(0\, 100\, 209)\; cursor: pointer\; text-decoration-line: none\; text-align: inherit\; list-style-type: none\; box-sizing: border-box\; background-color: transparent\; outline: none\; -webkit-tap-highlight-color: transparent\; font-weight: 600\; touch-action: manipulation\; display: inline\; border-inline-width: 0px\; margin-inline: 0px\; border-inline-style: none\; padding-inline: 0px\; padding-bottom: 0px\; border-top-style: none\; border-bottom-width: 0px\; border-bottom-style: none\; border-top-width: 0px\; margin-bottom: 0px\; margin-top: 0px\; padding-top: 0px\; font-family: inherit\;" tabindex="0" target="_blank">scoutingcmc.org/exploring</a>. All youth must be registered to attend.&nbsp\;</div>\n
LOCATION:Park Industries 6301 Saukview Dr St Cloud\, MN 56303
UID:e.2754.12385
SEQUENCE:3
DTSTAMP:20260422T224736Z
URL:https://chambermaster.stcloudareachamber.com/events/details/teen-career-exploring-manufacturing-12385
END:VEVENT

END:VCALENDAR
