BEGIN:VCALENDAR
VERSION:2.0
PRODID:-//ChamberMaster//Event Calendar 2.0//EN
METHOD:PUBLISH
X-PUBLISHED-TTL:P3D
REFRESH-INTERVAL:P3D
CALSCALE:GREGORIAN
BEGIN:VEVENT
DTSTART:20251106T220000Z
DTEND:20251107T000000Z
X-MICROSOFT-CDO-ALLDAYEVENT:FALSE
SUMMARY:Teen Career Exploring: Financial Careers
DESCRIPTION:Do you know someone 14 20 years old and curious about careers in banking\, investing\, or financial planning? Join us for the kickoff meeting of our Financial Careers Exploring Post in partnership with Magnifi Financial!\n\n \n\nIn this Exploring Post\, you will:\n\n-Work with financial professionals who work in banking\, lending\, and wealth management\n\n-Perform hands-on activities and skill-building tasks\n\n-Discover career paths in one of today's most stable and rewarding industries\n\n \n\nAll participants must be registered to attend.  For a full schedule and registration materials\, please visit scoutingcmc.org/exploring
X-ALT-DESC;FMTTYPE=text/html:<div>Do you know someone 14&ndash\;20 years old and curious about careers in banking\, investing\, or financial planning? Join us for the kickoff meeting of our Financial Careers Exploring Post in partnership with Magnifi Financial!<br />\n&nbsp\;</div>\n\n<div>In this Exploring Post\, you will:</div>\n\n<div>-Work with financial professionals who work in banking\, lending\, and wealth management<br />\n-Perform hands-on activities and skill-building tasks<br />\n-Discover career paths in one of today&rsquo\;s most stable and rewarding industries<br />\n&nbsp\;</div>\n\n<div>All participants must be registered to attend.&nbsp\; For a full schedule and registration materials\, please visit&nbsp\;<a class="x1i10hfl xjbqb8w x1ejq31n x18oe1m7 x1sy0etr xstzfhl x972fbf x10w94by x1qhh985 x14e42zd x9f619 x1ypdohk xt0psk2 x3ct3a4 xdj266r x14z9mp xat24cr x1lziwak xexx8yu xyri2b x18d9i69 x1c1uobl x16tdsg8 x1hl2dhg xggy1nq x1a2a7pz xkrqix3 x1sur9pj x1fey0fg x1s688f" href="http://scoutingcmc.org/exploring?fbclid=IwZXh0bgNhZW0CMTAAYnJpZBExTHp2TlNjamJOUXJFdWtwTwEe5pogdPh_BvQipchKN2bDau7xjoDBL10mAw6_bOCv1mB172HKmf94UBHbCYA_aem_9SG3stTQTFyJoC3Ld4Mp9g" rel="nofollow noreferrer" style="color: rgb(0\, 100\, 209)\; cursor: pointer\; text-decoration-line: none\; text-align: inherit\; list-style-type: none\; box-sizing: border-box\; background-color: transparent\; outline: none\; -webkit-tap-highlight-color: transparent\; font-weight: 600\; touch-action: manipulation\; display: inline\; border-inline-width: 0px\; margin-inline: 0px\; border-inline-style: none\; padding-inline: 0px\; padding-bottom: 0px\; border-top-style: none\; border-bottom-width: 0px\; border-bottom-style: none\; border-top-width: 0px\; margin-bottom: 0px\; margin-top: 0px\; padding-top: 0px\; font-family: inherit\;" tabindex="0" target="_blank">scoutingcmc.org/exploring</a></div>\n
LOCATION:Magnifi Financial Sartell 300 Pine Cone Rd S Sartell\, MN 56377
UID:e.2754.12386
SEQUENCE:3
DTSTAMP:20260422T215820Z
URL:https://chambermaster.stcloudareachamber.com/events/details/teen-career-exploring-financial-careers-12386
END:VEVENT

END:VCALENDAR
