BEGIN:VCALENDAR
VERSION:2.0
PRODID:-//ChamberMaster//Event Calendar 2.0//EN
METHOD:PUBLISH
X-PUBLISHED-TTL:P3D
REFRESH-INTERVAL:P3D
CALSCALE:GREGORIAN
BEGIN:VEVENT
DTSTART:20260226T140000Z
DTEND:20260226T170000Z
X-MICROSOFT-CDO-ALLDAYEVENT:FALSE
SUMMARY:Supervisor Development Certificate Program 2026 - Session 2: Helping Employees Achieve Peak Performance
DESCRIPTION:REGISTER HERE\n\n\n\nDuring this course you will learn how to write employee performance expectations and how to tie job descriptions and performance to staff evaluations. In addition\, we will discuss motivating employees and correcting poor performance.\n\n\n\nSpeaker: Julie Lunning\, St. Cloud Area Chamber of Commerce\n\n\n\nWith questions\, contact Laura Wagner at LWagner@StCloudAreaChamber.com or \n\n320-656-3831. Please also provide the attendee's email address and direct phone number\, so they can be contacted directly with any class-related information.
X-ALT-DESC;FMTTYPE=text/html:<div style="">\n<p class="MsoNormal" style="margin: 0pt\;"><br />\n<span style="font-size:18px\;"><a href="https://chambermaster.stcloudareachamber.com/events/details/supervisor-development-certificate-program-2026-12411" target="_blank"><span style="color:#0000CD\;"><strong>REGISTER HERE</strong></span></a></span><br />\n<br />\n<span style="font-family: Arial\; font-size: 16px\;">During this course you will learn how to write employee performance expectations and how to tie job descriptions and performance to staff evaluations. In addition\, we will discuss motivating employees and correcting poor performance.<br />\n<br />\n<strong>Speaker: Julie Lunning\, St. Cloud Area Chamber of Commerce</strong><br />\n<br />\n<span style="color:black\;"><span style="font-family:arial\,sans-serif\;"><strong>With questions\,&nbsp\;contact Laura Wagner&nbsp\;at <a href="mailto:lwagner@stcloudareachamber.com">LWagner@StCloudAreaChamber.com</a>&nbsp\;or&nbsp\;<br />\n320-656-3831</strong>. Please also provide&nbsp\;the attendee&#39\;s email address and direct phone number\, so they can be contacted directly with any class-related information.</span></span></span><br />\n&nbsp\;</p>\n</div>\n
LOCATION:
UID:e.2754.12418
SEQUENCE:3
DTSTAMP:20260422T114548Z
URL:https://chambermaster.stcloudareachamber.com/events/details/supervisor-development-certificate-program-2026-session-2-helping-employees-achieve-peak-performance-12418
END:VEVENT

END:VCALENDAR
