BEGIN:VCALENDAR
VERSION:2.0
PRODID:-//ChamberMaster//Event Calendar 2.0//EN
METHOD:PUBLISH
X-PUBLISHED-TTL:P3D
REFRESH-INTERVAL:P3D
CALSCALE:GREGORIAN
BEGIN:VEVENT
DTSTART:20260127T140000Z
DTEND:20260127T170000Z
X-MICROSOFT-CDO-ALLDAYEVENT:FALSE
SUMMARY:Supervisor Development Certificate Program 2026 - Session 1: Hiring For Retention
DESCRIPTION:REGISTER HERE\n\n\n\nThis course will cover what you need to find the right person for the right position\, including writing an accurate position description\, recruiting potential employees\, and interviewing applicants.\n\n\n\nSpeaker: Jill Magelssen\, Brookline Consulting\n\n\n\n\n\n\n\nWith questions\, contact Laura Wagner at LWagner@StCloudAreaChamber.com or \n\n320-656-3831. Please also provide the attendee's email address and direct phone number\, so they can be contacted directly with any class-related information.
X-ALT-DESC;FMTTYPE=text/html:<div style="">\n<p class="MsoNormal" style="margin: 0pt\;"><br />\n<span style="font-size:18px\;"><a href="https://chambermaster.stcloudareachamber.com/events/details/supervisor-development-certificate-program-2026-12411" target="_blank"><strong><span style="color:#0000CD\;">REGISTER HERE</span></strong></a></span><br />\n<br />\n<span style="font-size: 16px\;"><font face="Arial">This course will cover what you need to find the right person for the right position\, including writing an accurate position description\, recruiting potential employees\, and interviewing applicants.</font><br />\n<br />\n<strong style="font-family: Arial\;">Speaker: Jill Magelssen\, Brookline Consulting</strong><br />\n<br />\n<br />\n<br />\n<span style="font-family: Arial\; color: black\;"><span style="font-family:arial\,sans-serif\;"><strong>With questions\,&nbsp\;contact Laura Wagner&nbsp\;at <a href="mailto:lwagner@stcloudareachamber.com">LWagner@StCloudAreaChamber.com</a>&nbsp\;or&nbsp\;<br />\n320-656-3831</strong>. Please also provide&nbsp\;the attendee&#39\;s email address and direct phone number\, so they can be contacted directly with any class-related information.</span></span></span></p>\n</div>\n
LOCATION:St. Cloud Area Chamber of Commerce 1411 West Saint Germain\, Ste 101 Saint Cloud\, MN 56301
UID:e.2754.12417
SEQUENCE:3
DTSTAMP:20260422T150548Z
URL:https://chambermaster.stcloudareachamber.com/events/details/supervisor-development-certificate-program-2026-session-1-hiring-for-retention-12417
END:VEVENT

END:VCALENDAR
