BEGIN:VCALENDAR
VERSION:2.0
PRODID:-//ChamberMaster//Event Calendar 2.0//EN
METHOD:PUBLISH
X-PUBLISHED-TTL:P3D
REFRESH-INTERVAL:P3D
CALSCALE:GREGORIAN
BEGIN:VEVENT
DTSTART;VALUE=DATE:20250626
DTEND;VALUE=DATE:20250630
TRANSP:TRANSPARENT
X-MICROSOFT-CDO-ALLDAYEVENT:TRUE
SUMMARY:St. Cloud Granite City Days
DESCRIPTION:Mark your calendars for June 26-29\, 2025\, because you won't want to miss a moment of the fun.\n\n\n\nSchedule at a Glance\n\nThursday\, June 26th\n\n11AM: Paramount Center for the Arts Collaboration\n\n11AM: Lemonade Art Fair\n\n7PM: Opening Ceremonies and Mayor Anderson's Rock On Awards\n\n7:30PM: St. Cloud Symphony Orchestra Concert\n\n\n\nFriday\, June 27th\n\n5PM: St. Cloud Park & Rock\n\n\n\nSaturday\, June 28th\n\n10AM: Coborn's Granite City Days Parade\n\n10AM: Downtown Patio Party\n\n12PM: Panstock\n\n\n\nSunday\, June 29th\n\n11AM: Fred Yiran African Arts Festival\n\n\n\nLEARN MORE
X-ALT-DESC;FMTTYPE=text/html:<div><br />\n<span style="font-size:14px\;"><strong>Mark your calendars for June 26-29\, 2025\, because you won&rsquo\;t want to miss a moment of the fun.</strong></span><br />\n<br />\n<em>Schedule at a Glance</em><br />\n<b>Thursday\, June 26th</b><br />\n11AM: Paramount Center for the Arts Collaboration<br />\n11AM: Lemonade Art Fair<br />\n7PM: Opening Ceremonies and Mayor Anderson&#39\;s Rock On Awards<br />\n7:30PM: St. Cloud Symphony Orchestra Concert<br />\n<br />\n<strong>Friday\, June 27th</strong><br />\n5PM: St. Cloud Park &amp\; Rock<br />\n<br />\n<b>Saturday\, June 28th</b><br />\n10AM: Coborn&#39\;s Granite City Days Parade<br />\n10AM: Downtown Patio Party<br />\n12PM: Panstock<br />\n<br />\n<strong>Sunday\, June 29th</strong><br />\n11AM: Fred Yiran African Arts Festival</div>\n\n<div><br />\n<a href="https://www.stcloudgranitecitydays.com/"><strong>LEARN MORE</strong></a></div>\n
LOCATION:
UID:e.2754.12216
SEQUENCE:3
DTSTAMP:20260423T033539Z
URL:https://chambermaster.stcloudareachamber.com/events/details/st-cloud-granite-city-days-12216
END:VEVENT

END:VCALENDAR
