BEGIN:VCALENDAR
VERSION:2.0
PRODID:-//ChamberMaster//Event Calendar 2.0//EN
METHOD:PUBLISH
X-PUBLISHED-TTL:P3D
REFRESH-INTERVAL:P3D
CALSCALE:GREGORIAN
BEGIN:VEVENT
DTSTART:20250506T203000Z
DTEND:20250506T220000Z
X-MICROSOFT-CDO-ALLDAYEVENT:FALSE
SUMMARY:SCFCU Business Networking Event
DESCRIPTION:SCFCU Business Networking Event\n\nSt. Cloud Financial Credit Union invites you to join us on May 6 at Lupulin Brewing for a Speed Networking Event!\n\nCome join us for a night of networking and connections at the Lupulin Brewing! This event is a great opportunity to expand your network\, exchange ideas\, make meaningful connections and grow your business community! Door prizes will be available courtesy of local businesses.\n\nThis is a fantastic chance to connect with local professionals\, share your latest projects\, and grow your network. Be sure to sign up using the QR Code on the flyer\, (which I can email) or using this link: https://www.eventbrite.com/e/scfcu-business-networking-event-tickets-1272714877459?aff=oddtdtcreator \n\n\n\n\n\n\n\n\n\n\n\n\n\n\nThank you to our sponsors Williams Dingmann Funeral Home\, Sherburne County and Lupulin Brewing.
X-ALT-DESC;FMTTYPE=text/html:<div class="Layout-module__module___2eUcs undefined" data-testid="aboutThisEvent" font-size:="" helvetica="" neue="" style="margin: 0px\; padding: 0px\; box-sizing: border-box\; color: rgb(57\, 54\, 79)\; font-family: ">\n<div class="event-details__main-inner" style="margin: auto\; padding: 0px\; box-sizing: border-box\; -webkit-box-flex: 1\; flex: 1 1 0%\;">\n<div class="eds-l-mar-bot-12 structured-content" style="margin: 0px 0px 24px\; padding: 0px\; box-sizing: border-box\;">\n<div class="has-user-generated-content event-description" style="margin: 0px\; padding: 0px\; box-sizing: border-box\; display: flex\; -webkit-box-orient: vertical\; -webkit-box-direction: normal\; flex-direction: column\;">\n<div style="margin: 0px\; padding: 0px\; box-sizing: border-box\;">\n<div class="has-user-generated-content event-description__content event-description__content--expanded" id="event-description" style="margin: 0px\; padding: 0px\; box-sizing: border-box\; overflow: hidden\; transition: max-height 0.5s ease-in-out\; max-height: 100%\;">\n<div class="eds-l-mar-vert-6 eds-l-sm-mar-vert-4 eds-text-bm structured-content-rich-text" style="margin: 24px 0px\; padding: 0px\; text-rendering: optimizelegibility\; font-size: 0.875rem\; line-height: 1.25rem\; box-sizing: border-box\;">\n<div class="eds-text--left" style="margin: 0px\; padding: 0px\; box-sizing: border-box\;">\n<p style="margin: 0px\; padding: 0px\; box-sizing: border-box\; font-size: 16px\; line-height: 1.5rem\; color: rgb(111\, 114\, 135)\;"><span style="font-weight: 700\; box-sizing: border-box\; padding-top: 0px\;">SCFCU Business Networking Event</span></p>\n\n<p style="margin: 0px\; padding: 10px 0px 0px\; box-sizing: border-box\; font-size: 16px\; line-height: 1.5rem\; color: rgb(111\, 114\, 135)\;">St. Cloud Financial Credit Union invites you to join us on May 6 at&nbsp\;<span style="font-weight: 700\; box-sizing: border-box\; padding-top: 0px\;">Lupulin Brewing</span>&nbsp\;for a Speed Networking Event!</p>\n\n<p style="margin: 0px\; padding: 10px 0px 0px\; box-sizing: border-box\; font-size: 16px\; line-height: 1.5rem\; color: rgb(111\, 114\, 135)\;">Come join us for a night of networking and connections at the&nbsp\;<span style="font-weight: 700\; box-sizing: border-box\; padding-top: 0px\;">Lupulin Brewing</span>! This event is a great opportunity to expand your network\, exchange ideas\, make meaningful connections and grow your business community! Door prizes will be available courtesy of local businesses.</p>\n\n<p style="margin: 0px\; padding: 10px 0px 0px\; box-sizing: border-box\; font-size: 16px\; line-height: 1.5rem\; color: rgb(111\, 114\, 135)\;"><span style="font-size:16px\;"><span style="font-family:arial\,sans-serif\;">This is a fantastic chance to connect with local professionals\, share your latest projects\, and grow your network. Be sure to sign up using the QR Code on the flyer\, (which I can email) or using this link: <strong><a href="https://www.eventbrite.com/e/scfcu-business-networking-event-tickets-1272714877459?aff=oddtdtcreator"><span style="color:#0000CD\;">https://www.eventbrite.com/e/scfcu-business-networking-event-tickets-1272714877459?aff=oddtdtcreator</span></a><span style="color:#0000CD\;">&nbsp\;</span></strong></span></span></p>\n</div>\n</div>\n</div>\n</div>\n</div>\n</div>\n</div>\n</div>\n\n<div class="Layout-module__module___2eUcs undefined" data-testid="tags" font-size:="" helvetica="" neue="" style="margin: 0px\; padding: 0px\; box-sizing: border-box\; color: rgb(57\, 54\, 79)\; font-family: ">\n<div class="event-details__main-inner" style="margin: auto\; padding: 0px\; box-sizing: border-box\; -webkit-box-flex: 1\; flex: 1 1 0%\;">\n<section aria-labelledby="tags-heading" style="box-sizing: border-box\;">\n<div class="eds-l-mar-bot-12" style="margin: 0px 0px 48px\; padding: 0px\; box-sizing: border-box\;">\n<div class="event-details__section-title" style="margin: 0px 0px 16px\; padding: 0px\; box-sizing: border-box\; color: rgb(30\, 10\, 60)\; font-size: 1.5rem\; font-weight: 700\; line-height: 1.75rem\;">\n<h3 style="margin: 0px\; padding: 0px\; box-sizing: border-box\; font-size: inherit\; font-weight: inherit\;"><span style="color: rgb(111\, 114\, 135)\; font-size: 16px\;">Thank you to our sponsors Williams Dingmann Funeral Home\, Sherburne County and Lupulin Brewing.</span></h3>\n</div>\n</div>\n</section>\n</div>\n</div>\n
LOCATION:Lupulin Brewing 570 Humboldt Drive #Suite 107 Big Lake\, MN 55309
UID:e.2754.11518
SEQUENCE:3
DTSTAMP:20260423T072126Z
URL:https://chambermaster.stcloudareachamber.com/events/details/scfcu-business-networking-event-11518
END:VEVENT

END:VCALENDAR
