BEGIN:VCALENDAR
VERSION:2.0
PRODID:-//ChamberMaster//Event Calendar 2.0//EN
METHOD:PUBLISH
X-PUBLISHED-TTL:P3D
REFRESH-INTERVAL:P3D
CALSCALE:GREGORIAN
BEGIN:VEVENT
DTSTART:20210624T161500Z
DTEND:20210624T180000Z
X-MICROSOFT-CDO-ALLDAYEVENT:FALSE
SUMMARY:Sauk Rapids Chamber ZOOM Meeting 6/24/21
DESCRIPTION:Mark your calendar for this Sauk Rapids Chamber Zoom meeting\, from 11:15 a.m. - 12:30 p.m. All Chamber members and guests who are interested in Sauk Rapids community issues are welcome.\n\nHost: The Beautiful Mind Project\n\nSpeaker: Rachael Sogge\, Eyecon Graphics\n\nTopic:    Marketing Topic to be determined
X-ALT-DESC;FMTTYPE=text/html:<p><span style="color: rgb(51\, 51\, 51)\; font-family: sans-serif\, Arial\, Verdana\, &quot\;Trebuchet MS&quot\;\; font-size: 13px\; background-color: rgb(255\, 255\, 255)\;">Mark your calendar for this&nbsp\;Sauk Rapids Chamber&nbsp\;Zoom meeting\, from 11:15 a.m. - 12:30 p.m.&nbsp\;All Chamber members and guests who are interested in Sauk Rapids community issues are welcome.</span></p>\n\n<p><strong>Host:</strong>&nbsp\;The Beautiful Mind Project<br />\n<strong>Speaker:&nbsp\;</strong>Rachael Sogge\, Eyecon Graphics<br />\n<strong>Topic:&nbsp\;&nbsp\;</strong><span style="font-family:calibri\,sans-serif\;"><span style="font-size:11.0pt\;">&nbsp\;&nbsp\;<em><span style="font-family:arial\;"><span style="letter-spacing:.3pt\;"><span style="color:#003865\;">Marketing Topic to be determined</span></span></span></em></span></span></p>\n
LOCATION:ZOOM Meeting
UID:e.2754.7692
SEQUENCE:3
DTSTAMP:20260424T082220Z
URL:https://chambermaster.stcloudareachamber.com/events/details/sauk-rapids-chamber-zoom-meeting-6-24-21-7692
END:VEVENT

END:VCALENDAR
