BEGIN:VCALENDAR
VERSION:2.0
PRODID:-//ChamberMaster//Event Calendar 2.0//EN
METHOD:PUBLISH
X-PUBLISHED-TTL:P3D
REFRESH-INTERVAL:P3D
CALSCALE:GREGORIAN
BEGIN:VEVENT
DTSTART:20200528T163000Z
DTEND:20200528T173000Z
X-MICROSOFT-CDO-ALLDAYEVENT:FALSE
SUMMARY:Sauk Rapids Chamber Virtual Zoom 5/28/20
DESCRIPTION:Mark your calendar for this Sauk Rapids Chamber Virtual Zoom meeting\, from 11:30 a.m. - 12:30 p.m. All Chamber members and guests who are interested in Sauk Rapids community issues are welcome.\n\n\n\nHost: IPS Solar\n\nSpeaker: Maddy Zinken\, Community Engagement Coordinator\, Pathways 4 Youth\n\nTopic: Pathways 4 Youth
X-ALT-DESC;FMTTYPE=text/html:<p>Mark your calendar for this&nbsp\;Sauk Rapids Chamber Virtual Zoom meeting\, from 11:30 a.m. - 12:30 p.m.&nbsp\;All Chamber members and guests who are interested in Sauk Rapids community issues are welcome.<br />\n<br />\n<strong>Host:</strong>&nbsp\;IPS Solar<br />\n<strong>Speaker:</strong> Maddy Zinken\, Community Engagement Coordinator\, Pathways 4 Youth<br />\n<strong>Topic:&nbsp\;</strong>Pathways 4 Youth</p>\n
LOCATION:Zoom Meeting
UID:e.2754.6722
SEQUENCE:3
DTSTAMP:20260422T112143Z
URL:https://chambermaster.stcloudareachamber.com/events/details/sauk-rapids-chamber-virtual-zoom-5-28-20-6722
END:VEVENT

END:VCALENDAR
