BEGIN:VCALENDAR
VERSION:2.0
PRODID:-//ChamberMaster//Event Calendar 2.0//EN
METHOD:PUBLISH
X-PUBLISHED-TTL:P3D
REFRESH-INTERVAL:P3D
CALSCALE:GREGORIAN
BEGIN:VEVENT
DTSTART:20190627T164500Z
DTEND:20190627T180000Z
X-MICROSOFT-CDO-ALLDAYEVENT:FALSE
SUMMARY:Sauk Rapids Chamber 6/27/19
DESCRIPTION:Mark your calendar for this Sauk Rapids Chamber meeting\, from 11:45 a.m. - 1 p.m. All Chamber members and guests who are interested in Sauk Rapids community issues are welcome.\n\n\n\nThere is no cost to attend\, but please register for lunch at least two days prior by calling 251-2940\, ext. 126\, or emailing registrations@StCloudAreaChamber.com\n\nALL UNREGISTERED ATTENDEES WILL BE CHARGED $5 AT THE DOOR!\n\nHost: Falcon National Bank\n\nSpeaker: Volunteer panel presentation\n\nTopic: Business benefits of volunteering\n\n\n\nPlease note that this meeting will be held at El Loro Mexican Restaurant\n\nEl Loro Mexican Restaurant - Sauk Rapids\n\n415 N. Benton Dr.\n\nSauk Rapids\, MN  56379
X-ALT-DESC;FMTTYPE=text/html:<p>Mark your calendar for this&nbsp\;Sauk Rapids Chamber meeting\, from 11:45 a.m. - 1 p.m.&nbsp\;All Chamber members and guests who are interested in Sauk Rapids community issues are welcome.<br />\n<br />\nThere is no cost to attend\, but please register for lunch at least two days prior by&nbsp\;calling 251-2940\, ext. 126\, or emailing registrations@StCloudAreaChamber.com</p>\n\n<p>ALL UNREGISTERED ATTENDEES WILL BE CHARGED $5 AT THE DOOR!</p>\n\n<p><strong>Host:</strong>&nbsp\;<span style="color: rgb(51\, 51\, 51)\; font-family: sans-serif\, Arial\, Verdana\, &quot\;Trebuchet MS&quot\;\; font-size: 13px\; background-color: rgb(255\, 255\, 255)\;">Falcon National Bank</span><br />\n<strong><span style="font-size:10.0pt\;">Speaker:</span></strong><span style="font-size:10.0pt\;"> Volunteer panel presentation</span><br />\n<strong><span style="font-size:10.0pt\;">Topic:</span></strong><span style="font-size:10.0pt\;"> Business benefits of volunteering</span><br />\n<br />\n<span style="color:#FF0000\;"><em><strong><u>Please note that this meeting will be held at El Loro Mexican Restaurant</u></strong></em></span><br />\n<strong style="color: rgb(255\, 0\, 0)\; font-family: sans-serif\, Arial\, Verdana\, &quot\;Trebuchet MS&quot\;\; font-size: 13px\; background-color: rgb(255\, 255\, 255)\;">El Loro Mexican Restaurant - Sauk Rapids<br />\n415 N. Benton Dr.<br />\nSauk Rapids\, MN&nbsp\; 56379</strong></p>\n\n<p>&nbsp\;</p>\n
LOCATION:El Loro Mexican Restaurant - Sauk Rapids 415 N. Benton Dr. Sauk Rapids\, MN 56379
UID:e.2754.6122
SEQUENCE:3
DTSTAMP:20260422T014406Z
URL:https://chambermaster.stcloudareachamber.com/events/details/sauk-rapids-chamber-6-27-19-6122
END:VEVENT

END:VCALENDAR
