BEGIN:VCALENDAR
VERSION:2.0
PRODID:-//ChamberMaster//Event Calendar 2.0//EN
METHOD:PUBLISH
X-PUBLISHED-TTL:P3D
REFRESH-INTERVAL:P3D
CALSCALE:GREGORIAN
BEGIN:VEVENT
DTSTART:20240913T190000Z
DTEND:20240914T020000Z
X-MICROSOFT-CDO-ALLDAYEVENT:FALSE
SUMMARY:Rockin' Recovery in the Park
DESCRIPTION:Rockin' Recovery in the Park\n\nFriday\, September 13\, 2024 Lake George & Eastman Park St Cloud\, MN 56301 This is a free community event for all!\n\n\n\nInformation booths\, craft and other sales\, food vendors. There's something here for everyone. This is a safe place free of alcohol and drugs. Fun and activities begin at 2PM. Band begins at 6PM.
X-ALT-DESC;FMTTYPE=text/html:<span style="color:rgb(58\, 105\, 4)\; font-family:overpass\; font-size:16px">Rockin&#39\; Recovery in the Park</span><br />\n<span style="color:rgb(58\, 105\, 4)\; font-family:overpass\; font-size:16px">Friday\, September 13\, 2024 Lake George &amp\; Eastman Park St Cloud\, MN 56301 This is a free community event for all!</span><br />\n<br />\n<span style="color:rgb(58\, 105\, 4)\; font-family:overpass\; font-size:16px">Information booths\, craft and other sales\, food vendors. There&#39\;s something here for everyone. This is a safe place free of alcohol and drugs. Fun and activities begin at 2PM. Band begins at 6PM.</span>
LOCATION:Lake George & Eastman Park St Cloud\, MN 56301
UID:e.2754.11096
SEQUENCE:3
DTSTAMP:20260424T115221Z
URL:https://chambermaster.stcloudareachamber.com/events/details/rockin-recovery-in-the-park-11096
END:VEVENT

END:VCALENDAR
