BEGIN:VCALENDAR
VERSION:2.0
PRODID:-//ChamberMaster//Event Calendar 2.0//EN
METHOD:PUBLISH
X-PUBLISHED-TTL:P3D
REFRESH-INTERVAL:P3D
CALSCALE:GREGORIAN
BEGIN:VEVENT
DTSTART:20250907T170000Z
DTEND:20250908T010000Z
X-MICROSOFT-CDO-ALLDAYEVENT:FALSE
SUMMARY:Rock 4 ALZ
DESCRIPTION:Presented by Sentry Bank\, R4A will be held Sunday\, September 7\, 2025 from 12:00 - 8:00 p.m. at Bad Habit Brewery in St. Joseph\, MN. Jeff and Tommy's father\, music legend Bobby Vee\, was diagnosed with Alzheimer's in 2011 and sadly passed away on October 24\, 2016. The Linn family lost their mother and matriarch\, Irene Linn\, on April 19\, 2017 after her long battle with the disease. Rock for Alzheimer's (R4A) was created by Jeff and Tommy Vee and the Linn Family in conjunction with the St. Cloud office of the Minnesota-North Dakota Chapter of the Alzheimer's Association and The Bad Habit Brewery. R4A raises both funding and awareness for Alzheimer's locally while giving the families and friends of Alzheimer's patients an amazing opportunity to listen to great music and share their own stories.
X-ALT-DESC;FMTTYPE=text/html:<p>Presented by Sentry Bank\, R4A will be held Sunday\, September 7\, 2025 from 12:00 - 8:00 p.m. at Bad Habit Brewery in St. Joseph\, MN.&nbsp\;Jeff and Tommy&rsquo\;s father\, music legend Bobby Vee\, was diagnosed with Alzheimer&rsquo\;s in 2011 and sadly passed away on October 24\, 2016. The Linn family lost their mother and matriarch\, Irene Linn\, on April 19\, 2017 after her long battle with the disease. Rock for Alzheimer&#39\;s (R4A) was created by Jeff and Tommy Vee and the Linn Family in conjunction with the St. Cloud office of the Minnesota-North Dakota Chapter of the Alzheimer&rsquo\;s Association and The Bad Habit Brewery. R4A raises both funding and awareness for Alzheimer&rsquo\;s locally while giving the families and friends of Alzheimer&rsquo\;s patients an amazing opportunity to listen to great music and share their own stories.<br />\n&nbsp\;</p>\n
LOCATION:Bad Habit Brewing Company 25 College Ave N. St Joseph\, MN 56374
UID:e.2754.12347
SEQUENCE:3
DTSTAMP:20260423T003621Z
URL:https://chambermaster.stcloudareachamber.com/events/details/rock-4-alz-09-07-2025-12347
END:VEVENT

END:VCALENDAR
