BEGIN:VCALENDAR
VERSION:2.0
PRODID:-//ChamberMaster//Event Calendar 2.0//EN
METHOD:PUBLISH
X-PUBLISHED-TTL:P3D
REFRESH-INTERVAL:P3D
CALSCALE:GREGORIAN
BEGIN:VEVENT
DTSTART:20251030T200000Z
DTEND:20251030T210000Z
X-MICROSOFT-CDO-ALLDAYEVENT:FALSE
SUMMARY:Ribbon Cutting - Pediatric Partners 10/30/25
DESCRIPTION:RIBBON CUTTING\n\n\n\nPlease join us
X-ALT-DESC;FMTTYPE=text/html:<br />\n<br />\n<span style="font-size:24px\;"><strong><em><span style="color:#0000FF\;">RIBBON CUTTING</span></em></strong></span><br />\n<br />\n<span style="font-size:20px\;"><strong><em>Please join us&nbsp\;</em></strong></span>
LOCATION:Pediatric Partners 108 Doctors Park Saint Cloud\, MN 56301
UID:e.2754.12393
SEQUENCE:3
DTSTAMP:20260422T215753Z
URL:https://chambermaster.stcloudareachamber.com/events/details/ribbon-cutting-pediatric-partners-10-30-25-12393
END:VEVENT

END:VCALENDAR
