BEGIN:VCALENDAR
VERSION:2.0
PRODID:-//ChamberMaster//Event Calendar 2.0//EN
METHOD:PUBLISH
X-PUBLISHED-TTL:P3D
REFRESH-INTERVAL:P3D
CALSCALE:GREGORIAN
BEGIN:VEVENT
DTSTART:20260920T143000Z
DTEND:20260920T153000Z
X-MICROSOFT-CDO-ALLDAYEVENT:FALSE
SUMMARY:Ribbon Cutting - Minnesota Family - Sep 20th\,2026
DESCRIPTION:RIBBON CUTTING\n\n\n\nPlease join us
X-ALT-DESC;FMTTYPE=text/html:<br />\n<br />\n<strong><em><span style="font-size:16px\;"><span style="color:#0000FF\;">RIBBON CUTTING</span></span></em></strong><br />\n<br />\nPlease join us&nbsp\;
LOCATION:The Park Event Center 500 Division St\, Waite Park\, MN 56387
UID:e.2754.12669
SEQUENCE:3
DTSTAMP:20260422T185547Z
URL:https://chambermaster.stcloudareachamber.com/events/details/ribbon-cutting-minnesota-family-sep-20th-2026-12669
END:VEVENT

END:VCALENDAR
