BEGIN:VCALENDAR
VERSION:2.0
PRODID:-//ChamberMaster//Event Calendar 2.0//EN
METHOD:PUBLISH
X-PUBLISHED-TTL:P3D
REFRESH-INTERVAL:P3D
CALSCALE:GREGORIAN
BEGIN:VEVENT
DTSTART:20251001T150000Z
DTEND:20251001T160000Z
X-MICROSOFT-CDO-ALLDAYEVENT:FALSE
SUMMARY:Ribbon Cutting - Cold Brew LLC: DBA 7 Brew Drive Thru Coffee
DESCRIPTION:RIBBON CUTTING\n\n\n\nPlease join us
X-ALT-DESC;FMTTYPE=text/html:<br />\n<br />\n<strong><em><span style="font-size:16px\;"><span style="color:#0000FF\;">RIBBON CUTTING</span></span></em></strong><br />\n<br />\nPlease join us&nbsp\;
LOCATION:Cold Brew LLC: DBA 7 Brew Drive Thru Coffee 4149 Division Street Saint Cloud\, MN 56301
UID:e.2754.12381
SEQUENCE:3
DTSTAMP:20260422T215657Z
URL:https://chambermaster.stcloudareachamber.com/events/details/ribbon-cutting-cold-brew-llc-dba-7-brew-drive-thru-coffee-12381
END:VEVENT

END:VCALENDAR
