BEGIN:VCALENDAR
VERSION:2.0
PRODID:-//ChamberMaster//Event Calendar 2.0//EN
METHOD:PUBLISH
X-PUBLISHED-TTL:P3D
REFRESH-INTERVAL:P3D
CALSCALE:GREGORIAN
BEGIN:VEVENT
DTSTART:20251017T220000Z
DTEND:20251018T013000Z
X-MICROSOFT-CDO-ALLDAYEVENT:FALSE
SUMMARY:Recovery Community Network's 6th Annual Banquet for Recovery
DESCRIPTION:
X-ALT-DESC;FMTTYPE=text/html:
LOCATION:
UID:e.2754.12372
SEQUENCE:3
DTSTAMP:20260422T215759Z
URL:https://chambermaster.stcloudareachamber.com/events/details/recovery-community-network-s-6th-annual-banquet-for-recovery-12372
END:VEVENT

END:VCALENDAR
