BEGIN:VCALENDAR
VERSION:2.0
PRODID:-//ChamberMaster//Event Calendar 2.0//EN
METHOD:PUBLISH
X-PUBLISHED-TTL:P3D
REFRESH-INTERVAL:P3D
CALSCALE:GREGORIAN
BEGIN:VEVENT
DTSTART:20221115T003000Z
DTEND:20221115T013000Z
X-MICROSOFT-CDO-ALLDAYEVENT:FALSE
SUMMARY:Overcoming Limiting Beliefs Series (3 of 3)
DESCRIPTION:Made for More\nHave you ever felt like you weren't good enough? Not competent enough? Not qualified enough? Come join us as we dive into this topic and uncover some beliefs that may be holding you back from all you were called to be. You will learn about the four "R's" that will help when you feel stuck and unqualified! You were made for more! \n\n\n\nSchleper Coaching is hosting Myndee Anderson. She is a proud wife and mom\, was a CPA in public accounting before tackling her hardest calling at home of raising her three children. She is passionate about leading\, loving\, and encouraging women to achieve their potential. She loves friendly family competitions in the boat fishing or playing cards around her kitchen table. Her two beloved fur babies remind her each day to stop and smell the roses or snow!
X-ALT-DESC;FMTTYPE=text/html:<div><strong>Made for More</strong></div>\nHave you ever felt like you weren&rsquo\;t good enough? Not competent enough? Not qualified enough? Come join us as we dive into this topic and uncover some beliefs that may be holding you back from all you were called to be. You will learn about the four &ldquo\;R&rsquo\;s&rdquo\; that will help when you feel stuck and unqualified! You were made for more!&nbsp\;\n\n<div><br />\nSchleper Coaching is hosting Myndee Anderson. She is a proud wife and mom\, was a CPA in public accounting before tackling her hardest calling at home of raising her three children. She is passionate about leading\, loving\, and encouraging women to achieve their potential. She loves friendly family competitions in the boat fishing or playing cards around her kitchen table. Her two beloved fur babies remind her each day to stop and smell the roses&hellip\;or snow!</div>\n\n<div>\n<div>&nbsp\;</div>\n</div>\n
LOCATION:Saint Cloud Great River Regional Library: 1300 W Saint Germain St\, St. Cloud\, MN 56301 in Bremer Room
UID:e.2754.10104
SEQUENCE:3
DTSTAMP:20260424T051705Z
URL:https://chambermaster.stcloudareachamber.com/events/details/overcoming-limiting-beliefs-series-11-14-2022-10104
END:VEVENT

END:VCALENDAR
