BEGIN:VCALENDAR
VERSION:2.0
PRODID:-//ChamberMaster//Event Calendar 2.0//EN
METHOD:PUBLISH
X-PUBLISHED-TTL:P3D
REFRESH-INTERVAL:P3D
CALSCALE:GREGORIAN
BEGIN:VEVENT
DTSTART:20190627T123000Z
DTEND:20190627T140000Z
X-MICROSOFT-CDO-ALLDAYEVENT:FALSE
SUMMARY:New Member Welcome - June 27\, 2019
DESCRIPTION:The New Member Welcome is an introduction to the Chamber and how it works.  This is open to all Chamber members and their employees.\n\nWe will have coffee\, scones\, and juice available\, sponsored by CentraCare.
X-ALT-DESC;FMTTYPE=text/html:The New Member Welcome is an introduction to the Chamber and how it works. &nbsp\;This is open to all Chamber members and their employees.<br />\nWe will have coffee\, scones\, and juice available\, sponsored by CentraCare.
LOCATION:St. Cloud Area Chamber of Commerce office\, Coldspring Room
UID:e.2754.6257
SEQUENCE:3
DTSTAMP:20260422T030817Z
URL:https://chambermaster.stcloudareachamber.com/events/details/new-member-welcome-june-27-2019-6257
END:VEVENT

END:VCALENDAR
