BEGIN:VCALENDAR
VERSION:2.0
PRODID:-//ChamberMaster//Event Calendar 2.0//EN
METHOD:PUBLISH
X-PUBLISHED-TTL:P3D
REFRESH-INTERVAL:P3D
CALSCALE:GREGORIAN
BEGIN:VEVENT
DTSTART:20190620T213000Z
DTEND:20190620T233000Z
X-MICROSOFT-CDO-ALLDAYEVENT:FALSE
SUMMARY:New Member Mixer-June 2019
DESCRIPTION:If you have joined the St. Cloud Area Chamber of Commerce or started attending within the last 12 months\, you are invited to join us to network and social.\n\n\n\nMidtown Bar and Grill from 4:30-6:30pm
X-ALT-DESC;FMTTYPE=text/html:<span style="color: rgb(51\, 51\, 51)\; font-family: sans-serif\, Arial\, Verdana\, &quot\;Trebuchet MS&quot\;\; font-size: 13px\; background-color: rgb(255\, 255\, 255)\;">If you have joined the St. Cloud Area Chamber of Commerce or started attending within the last 12 months\, you are invited to join us to network and social.</span><br />\n<br />\n<span style="color:#0000FF\;"><span style="font-family: sans-serif\, Arial\, Verdana\, &quot\;Trebuchet MS&quot\;\; font-size: 13px\; background-color: rgb(255\, 255\, 255)\;">Midtown Bar and Grill from 4:30-6:30pm</span></span>
LOCATION:Midtown Bar and Grill 3333 W Division St #120 St. Cloud\, MN
UID:e.2754.6499
SEQUENCE:3
DTSTAMP:20260422T030658Z
URL:https://chambermaster.stcloudareachamber.com/events/details/new-member-mixer-june-2019-6499
END:VEVENT

END:VCALENDAR
