BEGIN:VCALENDAR
VERSION:2.0
PRODID:-//ChamberMaster//Event Calendar 2.0//EN
METHOD:PUBLISH
X-PUBLISHED-TTL:P3D
REFRESH-INTERVAL:P3D
CALSCALE:GREGORIAN
BEGIN:VEVENT
DTSTART:20190606T230000Z
DTEND:20190607T010000Z
X-MICROSOFT-CDO-ALLDAYEVENT:FALSE
SUMMARY:Mystery Night Out- 6/6/2019
DESCRIPTION:Mystery Night Out \n\nis a fun "pop up" feel event for young professionals (40 or under).  You get to know the date\, time\, and fee.  We will text you the event location the day before the event!\n\n\n\nEach ticket is for 2 people and your guest does not have to be a Chamber member.\n\n\n\nEach Mystery Night Out will include hors d'oeuvres\, a cash bar if the venue allows\, and an event you cannot go out and do yourself!  Plus great Chamber networking with other young professionals.\n\n\n\nTickets are NON REFUNDABLE\n\n\n\nIf you have food allergies please call Kelti at 320-656-3830 BEFORE registering.\n\n\n\nThis is a fundraiser event for other B.I.G. events!!
X-ALT-DESC;FMTTYPE=text/html:<span style="font-family:tahoma\;"><span style="font-size:22px\;"><span style="color:#800080\;"><strong>Mystery Night Out&nbsp\;</strong></span></span></span><br />\nis a fun &quot\;pop up&quot\; feel event for young professionals (40 or under).&nbsp\; You get to know the date\, time\, and fee.&nbsp\; We will text you the event location the day before the event!<br />\n<br />\nEach ticket is for 2 people and your guest does not have to be a Chamber member.<br />\n<br />\n<span style="font-size:14px\;"><span style="font-family:comic sans ms\;"><span style="font-size:12px\;"><span style="font-size:14px\;"><span style="font-family:arial\;">Each</span></span> </span><span style="font-family:tahoma\;">Mystery Night Out</span></span></span>&nbsp\;will include hors d&#39\;oeuvres\, a cash bar if the venue allows\, and an event you cannot go out and do yourself!&nbsp\; Plus great Chamber networking with other young professionals.<br />\n<br />\nTickets are NON REFUNDABLE<br />\n<br />\n<span style="color:#800000\;">If you have food allergies please call Kelti at 320-656-3830 BEFORE registering.</span><br />\n<br />\nThis is a fundraiser event for other B.I.G. events!!
LOCATION:Location is a secret until the day before in the form of a text message!
UID:e.2754.6421
SEQUENCE:3
DTSTAMP:20260422T030809Z
URL:https://chambermaster.stcloudareachamber.com/events/details/mystery-night-out-6-6-2019-6421
END:VEVENT

END:VCALENDAR
