BEGIN:VCALENDAR
VERSION:2.0
PRODID:-//ChamberMaster//Event Calendar 2.0//EN
METHOD:PUBLISH
X-PUBLISHED-TTL:P3D
REFRESH-INTERVAL:P3D
CALSCALE:GREGORIAN
BEGIN:VEVENT
DTSTART:20191118T210000Z
DTEND:20191118T223000Z
X-MICROSOFT-CDO-ALLDAYEVENT:FALSE
SUMMARY:Making Your Digital Marketing Matter
DESCRIPTION:No more guesses\, no more gut instincts. Attend this FREE EVENT and learn the latest strategies you can employ to turn your online marketing data into guides for smarter\, more effective decisions to reach your ideal customers.\n\n\n\nBrew & Learn\n\nEnjoy adult beverages and snacks while you learn more about:\n\n  Determining your optimum marketing channel strategies\n\n  Using relevant data to engage your ideal audiences\n\n  How to plan better campaigns\n\n\n\nPlus! Beaver Island Brewing will talk about their latest offerings.
X-ALT-DESC;FMTTYPE=text/html:No more guesses\, no more gut instincts. Attend this <strong>FREE EVENT</strong>&nbsp\;and learn the latest strategies you can employ to turn your online marketing data into guides for smarter\, more effective decisions&nbsp\;to reach your ideal customers.<br />\n<br />\n<strong>Brew &amp\; Learn</strong><br />\nEnjoy adult beverages and snacks while you learn more about:<br />\n&raquo\; Determining your optimum marketing channel strategies<br />\n&raquo\; Using relevant data to engage your ideal audiences<br />\n&raquo\; How to plan better campaigns<br />\n<br />\n<strong>Plus! </strong>Beaver Island Brewing will talk about their latest offerings.
LOCATION:Beaver Island Brewing 216 6th Avenue South St. Cloud\, MN 56301
UID:e.2754.6729
SEQUENCE:3
DTSTAMP:20260420T004741Z
URL:https://chambermaster.stcloudareachamber.com/events/details/making-your-digital-marketing-matter-6729
END:VEVENT

END:VCALENDAR
