BEGIN:VCALENDAR
VERSION:2.0
PRODID:-//ChamberMaster//Event Calendar 2.0//EN
METHOD:PUBLISH
X-PUBLISHED-TTL:P3D
REFRESH-INTERVAL:P3D
CALSCALE:GREGORIAN
BEGIN:VEVENT
DTSTART:20250505T213000Z
DTEND:20250505T230000Z
X-MICROSOFT-CDO-ALLDAYEVENT:FALSE
SUMMARY:Livin la Vida at Sterling Park
DESCRIPTION:Come join us for a Cinco de Mayo fiesta and open house event! Discover the Sterling Park difference while enjoying margaritas\, pi atas\, crafts\, and games with our current residents and staff.\n\n\n\nWe can't wait to see you and show you what life at Sterling Park has to offer!\n\n\n\nEVENT DETAILS Monday\, May 5th\, 2025 | 4:30 - 6:00PM Free public event. RSVP encouraged.\n\n\n\nRSVP BY MAY 1ST Natalie Rudy - (320) 250.2155 Natalie.Rudy@accura.healthcare
X-ALT-DESC;FMTTYPE=text/html:Come join us for a Cinco de Mayo fiesta and open house event! Discover the Sterling Park difference while enjoying margaritas\, pi&ntilde\;atas\, crafts\, and games with our current residents and staff.<br />\n<br />\nWe can&rsquo\;t wait to see you and show you what life at Sterling Park has to offer!<br />\n<br />\nEVENT DETAILS Monday\, May 5th\, 2025 | 4:30 - 6:00PM Free public event. RSVP encouraged.<br />\n<br />\nRSVP BY MAY 1ST Natalie Rudy - (320) 250.2155 Natalie.Rudy@accura.healthcare
LOCATION:Sterling Park Assisted & Independent Living 35 1st Ave N\, Waite Park\, MN 56387
UID:e.2754.11551
SEQUENCE:3
DTSTAMP:20260423T063439Z
URL:https://chambermaster.stcloudareachamber.com/events/details/livin-la-vida-at-sterling-park-11551
END:VEVENT

END:VCALENDAR
