BEGIN:VCALENDAR
VERSION:2.0
PRODID:-//ChamberMaster//Event Calendar 2.0//EN
METHOD:PUBLISH
X-PUBLISHED-TTL:P3D
REFRESH-INTERVAL:P3D
CALSCALE:GREGORIAN
BEGIN:VEVENT
DTSTART:20260617T163000Z
DTEND:20260617T183000Z
X-MICROSOFT-CDO-ALLDAYEVENT:FALSE
SUMMARY:Legislative Connection: 2026 Session Wrap-Up
DESCRIPTION:The St. Cloud Area Chamber of Commerce is hosting a 2026 Minnesota Legislative Session Wrap-Up. This event provides an opportunity for Chamber members to connect with local legislators\, share concerns\, and review legislative session outcomes. We also want to take this time to thank all of our area legislators for their dedication and commitment to their roles. \n\n \n\nEnjoy a light lunch as you connect with fellow business and community leaders.\n\n\n\nRegistration is required.\n\n\n	$25 for Chamber members\n	$35 for non-members\n\n\n\n\n\n\nInvited Participants: Senator Putnam\, Senator Howe\, Rep. Dan Wolgamott\, Rep. Bernie Perryman\, Rep. Lisa Demuth\, Rep. Tim O'Driscoll
X-ALT-DESC;FMTTYPE=text/html:<p><br />\n<br />\n<span style="background-image:initial\;background-position:initial\;background-size:initial\;background-repeat:initial\;background-attachment:initial\;background-origin:initial\;background-clip:initial\;"><span style="font-size:12pt\;">The St. Cloud Area Chamber of Commerce is hosting a 2026&nbsp\;Minnesota L</span></span><span style="font-size:12pt\;">egislative Session Wrap-Up. This event provides an opportunity for Chamber members to connect with local legislators\, share concerns\, and review legislative session outcomes. We also want to take this time to thank all of our area legislators for their dedication and commitment to their roles.&nbsp\;</span><br />\n&nbsp\;</p>\n\n<p style="box-sizing: border-box\; margin-block: 0px 0.9rem\; margin-top: 0px\; margin-bottom: 1rem\; outline: 0px\; color: rgb(68\, 68\, 68)\; font-family: Arial\, Helvetica\, sans-serif\; font-size: 14px\;">Enjoy a&nbsp\;<span style="box-sizing: border-box\; font-weight: bolder\;"><span style="box-sizing: border-box\; font-family: aptos\, sans-serif\;">light lunch&nbsp\;</span></span>as you connect with fellow business and community leaders.<br style="box-sizing: border-box\;" />\n<br style="box-sizing: border-box\;" />\n<span style="box-sizing: border-box\; font-weight: bolder\;"><span style="box-sizing: border-box\; font-family: aptos\, sans-serif\;">Registration is required.</span></span></p>\n\n<ul style="box-sizing: border-box\; margin-block: 0px\; border: 0px\; outline: 0px\; font-size: 14px\; vertical-align: baseline\; background-image: initial\; background-position: initial\; background-size: initial\; background-repeat: initial\; background-attachment: initial\; background-origin: initial\; background-clip: initial\; margin-top: 0px\; margin-bottom: 1rem\; color: rgb(68\, 68\, 68)\; font-family: Arial\, Helvetica\, sans-serif\;">\n	<li style="box-sizing: border-box\; margin-block: 0px\; border: 0px\; outline: 0px\; vertical-align: baseline\; background: transparent\; margin: 0px\; line-height: 1.77em\; letter-spacing: 0.022em\;">$25 for Chamber members</li>\n	<li style="box-sizing: border-box\; margin-block: 0px\; border: 0px\; outline: 0px\; vertical-align: baseline\; background: transparent\; margin: 0px\; line-height: 1.77em\; letter-spacing: 0.022em\;">$35 for non-members</li>\n</ul>\n\n<p><br />\n<br />\n<span style="font-size:12pt\;"><strong>Invited Participants: </strong>Senator Putnam\, Senator Howe\, Rep. Dan Wolgamott\, Rep. Bernie Perryman\, Rep. Lisa Demuth\, Rep. Tim O&rsquo\;Driscoll</span></p>\n
LOCATION:CentraCare South Point 3001 Clearwater Rd. St. Cloud\, MN 56301
UID:e.2754.12580
SEQUENCE:3
DTSTAMP:20260422T132521Z
URL:https://chambermaster.stcloudareachamber.com/events/details/legislative-connection-2026-session-wrap-up-12580
END:VEVENT

END:VCALENDAR
