BEGIN:VCALENDAR
VERSION:2.0
PRODID:-//ChamberMaster//Event Calendar 2.0//EN
METHOD:PUBLISH
X-PUBLISHED-TTL:P3D
REFRESH-INTERVAL:P3D
CALSCALE:GREGORIAN
BEGIN:VEVENT
DTSTART:20240410T130000Z
DTEND:20240410T170000Z
X-MICROSOFT-CDO-ALLDAYEVENT:FALSE
SUMMARY:It's Complicated! Navigating New Laws for MN Employers
DESCRIPTION:It's Complicated!\n\nThe St. Cloud Area Chamber of Commerce presents this exclusive opportunity focused on unraveling the complexities of Minnesota employment law changes while fostering a supportive network among local employers. Throughout this event\, attendees will engage in enriching networking sessions with peers\, gain insights from esteemed industry experts\, and access curated resources aimed at enhancing compliance efforts. Join us as we work together to navigate regulatory changes and timelines with confidence and efficiency.\n\n\n\nWho Should Attend\n\nWith recent legislation impacting multiple aspects of Minnesota employment law\, attendance at this event will provide employers\, small business owners\, HR professionals\, and business advisors invaluable guidance and resources for navigating changes scheduled to take effect within the next few years.\n\n\n\nSold out!\n\n\n\n7:45-8AM\n\nOpen doors/networking \n\n8AM\n\nWelcome and Introductions\n\n8:15 - 9AM\n\nEarned Sick & Safe Time\n\nAmy Sip\, ASip Consulting \n\n9:00-9:30AM\n\nFamily Medical Leave Act\n\nAmy Sip\, ASip Consulting and Betsey Lund Ross\, Lund Ross P.A. Law Firm \n\n9:30AM\n\nBreak \n\n9:45   10:45AM\n\nSecure 2.0 Act (Employee Retirement Plans)\n\nJacobs Financial and Betsy Kelly with Nova 401k Associates \n\n10:45- 11:15AM\n\nCorporate Transparency Act (CTA)\n\nJeff Clancy\, Quinlivan and Hughes\n\n11:15-11:45AM\n\nNew MN Cannabis Laws in the Workplace - MN Lawful Consumable Products Act\n\nElle Lannon\, Quinlivan & Hughes \n\n11:45AM\n\nEnding comments
X-ALT-DESC;FMTTYPE=text/html:<br />\n<span style="color:#000000\;"><strong><u><span style="font-size:12.0pt\;">It&#39\;s Complicated!</span></u></strong></span><br />\n<!-- x-tinymce/html --><span style="font-size:16px\;"><span style="font-family:arial\;">The St. Cloud Area Chamber of Commerce presents this exclusive opportunity focused on unraveling the complexities of Minnesota employment law changes while fostering a supportive network among local employers. Throughout this event\, attendees will engage in enriching networking sessions with peers\, gain insights from esteemed industry experts\, and access curated resources aimed at enhancing compliance efforts. Join us as we work together to navigate regulatory changes and timelines with confidence and efficiency.</span></span><br />\n<br />\n<span style="color:#000000\;"><strong><u><span style="background:white\;"><span style="font-size:12.0pt\;">Who Should Attend</span></span></u></strong></span><br />\n<span style="background:white\;"><span style="font-size:16px\;"><span style="font-family:arial\;"><span style="color:black\;">With recent legislation impacting multiple aspects of Minnesota employment law\, attendance at this event will provide employers\, small business owners\, HR professionals\, and business advisors invaluable guidance and resources for navigating changes scheduled to take effect within the next few years.</span></span></span></span><br />\n<br />\n<font color="#b22222"><span style="font-size: 16px\;"><b><i>Sold out!</i></b></span></font><br />\n<br />\n<span style="font-size:12.0pt\;"><strong><u>7:45-8AM</u></strong><br />\nOpen doors/networking </span><br />\n<span style="font-size:12.0pt\;"><strong><u>8AM</u></strong><br />\nWelcome and Introductions</span><br />\n<span style="font-size:12.0pt\;"><strong><u>8:15 - 9AM</u><br />\nEarned Sick &amp\; Safe Time</strong><br />\n<em>Amy Sip\, ASip Consulting </em></span><br />\n<span style="font-size:12.0pt\;"><strong><u>9:00-9:30AM</u><br />\nFamily Medical Leave Act</strong><br />\n<em>Amy Sip\, ASip Consulting and Betsey Lund Ross\, Lund Ross P.A. Law Firm </em></span><br />\n<span style="font-size:12.0pt\;"><strong><u>9:30AM</u></strong><br />\nBreak </span><br />\n<span style="font-size:12.0pt\;"><strong><u>9:45 &ndash\; 10:45AM</u><br />\nSecure 2.0 Act (Employee Retirement Plans)</strong><br />\n<em>Jacobs Financial and Betsy Kelly with Nova 401k Associates </em></span><br />\n<span style="font-size:12.0pt\;"><strong><u>10:45- 11:15AM</u><br />\n<span style="background:white\;"><span style="color:#4D5156\;">Corporate Transparency Act (CTA)</span></span></strong><br />\n<em>Jeff Clancy\, Quinlivan and Hughes</em></span><br />\n<span style="font-size:12.0pt\;"><strong><u>11:15-11:45AM</u><br />\nNew MN Cannabis Laws in the Workplace - MN Lawful Consumable Products Act</strong><br />\n<em>Elle Lannon\, Quinlivan &amp\; Hughes </em></span><br />\n<span style="font-size:12.0pt\;"><strong><u>11:45AM</u></strong><br />\nEnding comments</span><br />\n&nbsp\;
LOCATION:Chamber Office - Coldspring Conference Room 1411 W. St. Germain St.\, Ste 101 Saint Cloud\, MN 56301
UID:e.2754.11006
SEQUENCE:3
DTSTAMP:20260424T223628Z
URL:https://chambermaster.stcloudareachamber.com/events/details/it-s-complicated-navigating-new-laws-for-mn-employers-11006
END:VEVENT

END:VCALENDAR
