BEGIN:VCALENDAR
VERSION:2.0
PRODID:-//ChamberMaster//Event Calendar 2.0//EN
METHOD:PUBLISH
X-PUBLISHED-TTL:P3D
REFRESH-INTERVAL:P3D
CALSCALE:GREGORIAN
BEGIN:VEVENT
DTSTART:20251024T190000Z
DTEND:20251024T210000Z
X-MICROSOFT-CDO-ALLDAYEVENT:FALSE
SUMMARY:Harvest Sip & Paint at Sterling Park!
DESCRIPTION:Celebrate the beauty of fall with us at our Harvest Sip & Paint Open House! Join our residents for an afternoon of creativity\, conversation\, and community. Guests will paint pumpkins while enjoying a glass of wine in a warm\, welcoming atmosphere.\n\n\n\nFREE public event!\n\nRSVP to Natalie by October 17th to reserve your pumpkin!
X-ALT-DESC;FMTTYPE=text/html:Celebrate the beauty of fall with us at our Harvest Sip &amp\; Paint Open House! Join our residents for an afternoon of creativity\, conversation\, and community. Guests will paint pumpkins while enjoying a glass of wine in a warm\, welcoming atmosphere.<br />\n<br />\nFREE public event!<br />\nRSVP to Natalie by October 17th to reserve your pumpkin!<br />\n&nbsp\;
LOCATION:Sterling Park Assisted & Independent Living 35 1st Ave N Waite Park\, MN 56387 In the activities room.
UID:e.2754.12366
SEQUENCE:3
DTSTAMP:20260422T215610Z
URL:https://chambermaster.stcloudareachamber.com/events/details/harvest-sip-paint-at-sterling-park-12366
END:VEVENT

END:VCALENDAR
