BEGIN:VCALENDAR
VERSION:2.0
PRODID:-//ChamberMaster//Event Calendar 2.0//EN
METHOD:PUBLISH
X-PUBLISHED-TTL:P3D
REFRESH-INTERVAL:P3D
CALSCALE:GREGORIAN
BEGIN:VEVENT
DTSTART:20221115T220000Z
DTEND:20221116T010000Z
X-MICROSOFT-CDO-ALLDAYEVENT:FALSE
SUMMARY:EPIC for Influencers
DESCRIPTION:FREE open house to learn about the careers\, industries and jobs from industry leaders that your student(s) could pursue.\n\nAre you an adult or mentor who influences student decisions about post-high school plans and direction? Attend this event to learn about the careers\, industries and jobs your student could pursue! Youth are encouraged to attend with their adult "influencer."\n\n\n\nThis is an extension of the EPIC Student Day event\, that is held 10/28/2022 at SCTCC. The intention is for students to attend and discover career options\, then bring their adults to the Influencer event to ask more detailed questions to help students continue exploring and achieving future goals.\n\n\n\nWhile there is no cost to attend and you're welcome to arrive at any time between 4-7 PM\, we encourage you to register on Eventbrite and select a time slot. Thank you!\n\n \n\nWHAT TO EXPECT:\n\nEPIC For Influencers will bring youth "Influencers" together with business leaders from all work clusters to engage in educational conversations to learn about different career opportunities.\n\n \n\nWho is an "Influencer"?\n\nAnyone who helps local youth or those looking to change career paths determine their steps during and after high school or while preparing to change careers. This includes\, but is not limited to:\n\n\n	\n	Family & Guardians (parents\, grandparents\, caretakers\, neighbors\, etc.)\n	\n	\n	Community members (youth organization staff\, career advisors\, etc.)\n	\n	\n	School staff (counselors\, teachers\, support staff\, bus drivers... anyone who interacts with youth!)\n	\n\n\nLearn more about EPIC and the MDE career wheel on our website.
X-ALT-DESC;FMTTYPE=text/html:<h2><span style="color:rgb(57\, 54\, 79)\; font-family:neue plak\,-apple-system\,blinkmacsystemfont\,roboto\,helvetica neue\,helvetica\,tahoma\,arial\,sans-serif\; font-size:14px"><strong>FREE open house to learn about the careers\, industries and jobs from industry leaders that your student(s) could pursue.</strong></span></h2>\n\n<div>Are you an adult or mentor who influences student decisions about post-high school plans and direction? Attend this event to learn about the careers\, industries and jobs your student could pursue!&nbsp\;<strong>Youth are encouraged to attend with their adult &quot\;influencer.&quot\;<br />\n<br />\nThis is an extension of the EPIC Student Day event\, that is held 10/28/2022 at SCTCC. </strong>The intention is for students to attend and discover career options\, then bring their adults to the Influencer event to ask more detailed questions to help students continue exploring and achieving future goals.<br />\n<br />\n<strong><span style="color:#FF0000">While there is no cost to attend and you&#39\;re welcome to arrive at any time between 4-7 PM\, we encourage you to register on Eventbrite and select a time slot. Thank you!</span></strong><br />\n&nbsp\;</div>\n\n<div><strong>WHAT TO EXPECT:</strong></div>\n\n<div>EPIC For Influencers will bring youth &quot\;Influencers&quot\; together with business leaders from all work clusters to engage in educational conversations to learn about different career opportunities.<br />\n&nbsp\;</div>\n\n<div><strong>Who is an &quot\;Influencer&quot\;?</strong></div>\n\n<div>Anyone who helps local youth or those looking to change career paths determine their steps during and after high school or while preparing to change careers. This includes\, but is not limited to:</div>\n\n<ul>\n	<li>\n	<div><strong>Family &amp\; Guardians</strong>&nbsp\;(parents\, grandparents\, caretakers\, neighbors\, etc.)</div>\n	</li>\n	<li>\n	<div><strong>Community members</strong>&nbsp\;(youth organization staff\, career advisors\, etc.)</div>\n	</li>\n	<li>\n	<div><strong>School staff&nbsp\;</strong>(counselors\, teachers\, support staff\, bus drivers... anyone who interacts with youth!)</div>\n	</li>\n</ul>\n\n<div><a href="https://epic-mn.com/" rel="nofollow noopener noreferrer" style="text-decoration-line: none\; color: var(--eds-control\,#3659e3)\; cursor: pointer\; background-color: transparent\; box-sizing: border-box\; padding-top: 0px\;" target="_blank">Learn more about EPIC and the MDE career wheel on our website.</a></div>\n
LOCATION:St. Cloud Technical & Community College (SCTCC) 1540 Northway Drive\, St. Cloud\, MN\, 56303 Enter through Door 1
UID:e.2754.10134
SEQUENCE:3
DTSTAMP:20260423T084839Z
URL:https://chambermaster.stcloudareachamber.com/events/details/epic-for-influencers-10134
END:VEVENT

END:VCALENDAR
