BEGIN:VCALENDAR
VERSION:2.0
PRODID:-//ChamberMaster//Event Calendar 2.0//EN
METHOD:PUBLISH
X-PUBLISHED-TTL:P3D
REFRESH-INTERVAL:P3D
CALSCALE:GREGORIAN
BEGIN:VEVENT
DTSTART:20250513T230000Z
DTEND:20250513T230000Z
X-MICROSOFT-CDO-ALLDAYEVENT:FALSE
SUMMARY:Emotional Trauma & Recovery - Essential Oils DIY Information Class
DESCRIPTION:?? Scent & Sanctuary\n\nDIY Essential Oils Workshop for Trauma & Recovery\n\n \n\nDate/Time: May 13th\, 2025\n\nLocation: Bella Vita Salt Caves\n\nInvestment: $20.00\n\n \n\nDiscover the grounding power of scent as you learn to create your own personalized essential oil blends to support emotional healing\, nervous system regulation\, and self-love.\n\n \n\nIn this gentle and hands-on workshop\, we'll explore how essential oils can be powerful allies on the journey through trauma and into recovery helping to ease anxiety\, uplift the spirit\, and restore balance to the body and mind.\n\n \n\nYou'll be guided through:\n\n?? Understanding how scent affects the brain and emotions\n\n?? Essential oils known to support grounding\, grief\, empowerment & release\n\n?? Creating 2 personalized blends: one for daily strength\, one for rest & reflection\n\n?? Tips on using oils for breathwork\, boundaries\, and emotional resilience\n\n \n\nThis class is trauma-informed\, beginner-friendly\, and held in a safe\, compassionate space. Whether you're new to oils or deep in your healing journey\, this is time just for you to create\, connect\, and reclaim your sense of calm.\n\n \n\n? All supplies provided\n\n? No prior experience needed\n\n? You'll leave with 2 custom blends and a printed guide
X-ALT-DESC;FMTTYPE=text/html:<p>?? <em>Scent &amp\; Sanctuary</em></p>\n\n<p>DIY Essential Oils Workshop for Trauma &amp\; Recovery</p>\n\n<p>&nbsp\;</p>\n\n<p>Date/Time: May 13th\, 2025</p>\n\n<p>Location: Bella Vita Salt Caves</p>\n\n<p>Investment: $20.00</p>\n\n<p>&nbsp\;</p>\n\n<p>Discover the grounding power of scent as you learn to create your own personalized essential oil blends to support emotional healing\, nervous system regulation\, and self-love.</p>\n\n<p>&nbsp\;</p>\n\n<p>In this gentle and hands-on workshop\, we&rsquo\;ll explore how essential oils can be powerful allies on the journey through trauma and into recovery&mdash\;helping to ease anxiety\, uplift the spirit\, and restore balance to the body and mind.</p>\n\n<p>&nbsp\;</p>\n\n<p>You&#39\;ll be guided through:</p>\n\n<p>?? Understanding how scent affects the brain and emotions</p>\n\n<p>?? Essential oils known to support grounding\, grief\, empowerment &amp\; release</p>\n\n<p>?? Creating 2 personalized blends: one for daily strength\, one for rest &amp\; reflection</p>\n\n<p>?? Tips on using oils for breathwork\, boundaries\, and emotional resilience</p>\n\n<p>&nbsp\;</p>\n\n<p>This class is trauma-informed\, beginner-friendly\, and held in a safe\, compassionate space. Whether you&rsquo\;re new to oils or deep in your healing journey\, this is time just for <em>you</em>&mdash\;to create\, connect\, and reclaim your sense of calm.</p>\n\n<p>&nbsp\;</p>\n\n<p>? All supplies provided</p>\n\n<p>? No prior experience needed</p>\n\n<p>? You&rsquo\;ll leave with 2 custom blends and a printed guide</p>\n
LOCATION:Bella Vita Salt Caves 707 West St. Germain St. St. Cloud\, MN 56301
UID:e.2754.11554
SEQUENCE:3
DTSTAMP:20260423T073020Z
URL:https://chambermaster.stcloudareachamber.com/events/details/emotional-trauma-recovery-essential-oils-diy-information-class-11554
END:VEVENT

END:VCALENDAR
