BEGIN:VCALENDAR
VERSION:2.0
PRODID:-//ChamberMaster//Event Calendar 2.0//EN
METHOD:PUBLISH
X-PUBLISHED-TTL:P3D
REFRESH-INTERVAL:P3D
CALSCALE:GREGORIAN
BEGIN:VEVENT
DTSTART:20250517T160000Z
DTEND:20250517T170000Z
X-MICROSOFT-CDO-ALLDAYEVENT:FALSE
SUMMARY:Elemental Journey Sound Bath at Bella Vita Salt Caves
DESCRIPTION:Step into a one-of-a-kind wellness experience inside the healing Himalayan Salt Cave at Bella Vita. This Elemental Journey Sound Bath guides participants through the energies of Earth\, Water\, Fire\, and Air each represented by the distinct resonance of crystal singing bowls.\n\nGuests will experience a meditative sound journey that supports grounding\, emotional release\, personal empowerment\, and mental clarity. It's the perfect energetic reset for mind\, body\, and spirit\, set within a space designed to calm the nervous system and deepen your connection to nature and yourself.\n\nWhat to expect:\n\n? Earth   Grounding and inner stability\n\n? Water   Emotional flow and release\n\n? Fire   Transformation and courage\n\n? Air   Breath\, focus\, and clarity\n\nAttendees are welcome to bring a blanket\, water\, or personal item of comfort.\n\nPlease note: Gift cards\, coupons\, or promotional offers are not valid for this class. Space is limited advance registration required.
X-ALT-DESC;FMTTYPE=text/html:<p>Step into a one-of-a-kind wellness experience inside the healing Himalayan Salt Cave at Bella Vita. This <em>Elemental Journey Sound Bath</em> guides participants through the energies of Earth\, Water\, Fire\, and Air&mdash\;each represented by the distinct resonance of crystal singing bowls.</p>\n\n<p>Guests will experience a meditative sound journey that supports grounding\, emotional release\, personal empowerment\, and mental clarity. It&rsquo\;s the perfect energetic reset for mind\, body\, and spirit\, set within a space designed to calm the nervous system and deepen your connection to nature&mdash\;and yourself.</p>\n\n<p><strong>What to expect:</strong><br />\n? Earth &ndash\; Grounding and inner stability<br />\n? Water &ndash\; Emotional flow and release<br />\n? Fire &ndash\; Transformation and courage<br />\n? Air &ndash\; Breath\, focus\, and clarity</p>\n\n<p>Attendees are welcome to bring a blanket\, water\, or personal item of comfort.</p>\n\n<p><strong>Please note:</strong> Gift cards\, coupons\, or promotional offers are not valid for this class. Space is limited&mdash\;advance registration required.</p>\n
LOCATION:Bella Vita Salt Caves 707 West St. Germain St. St. Cloud\, MN 56301
UID:e.2754.11558
SEQUENCE:3
DTSTAMP:20260423T052048Z
URL:https://chambermaster.stcloudareachamber.com/events/details/elemental-journey-sound-bath-at-bella-vita-salt-caves-11558
END:VEVENT

END:VCALENDAR
