BEGIN:VCALENDAR
VERSION:2.0
PRODID:-//ChamberMaster//Event Calendar 2.0//EN
METHOD:PUBLISH
X-PUBLISHED-TTL:P3D
REFRESH-INTERVAL:P3D
CALSCALE:GREGORIAN
BEGIN:VEVENT
DTSTART:20240823T210000Z
DTEND:20240824T010000Z
X-MICROSOFT-CDO-ALLDAYEVENT:FALSE
SUMMARY:Downtown St. Cloud Art Crawl - August 23\, 2024
DESCRIPTION:CRAWL THIS WAY.\n\n\n\nCelebrate and experience the work of talented Central Minnesota artists while enjoying the warmth and charm of locally-owned shops\, businesses and eateries in Historic Downtown St. Cloud! \n\n\n\nThe next Downtown Art Crawl is scheduled for August 23\, 2024!\n\n\n\nMore details on participating venues and artists are coming soon. \n\n\n\nLEARN MORE
X-ALT-DESC;FMTTYPE=text/html:CRAWL THIS WAY.<br />\n<br />\nCelebrate and experience the work of talented Central Minnesota artists while enjoying the warmth and charm of locally-owned shops\, businesses and eateries in Historic Downtown St. Cloud!&nbsp\;<br />\n<br />\n<strong>The next Downtown Art Crawl is scheduled for August 23\, 2024!</strong><br />\n<br />\nMore details on participating venues and artists are coming soon.&nbsp\;<br />\n<br />\n<strong><a href="https://www.visitdowntownstc.com/art-crawl/">LEARN MORE</a></strong>
LOCATION:Downtown St. Cloud
UID:e.2754.11131
SEQUENCE:3
DTSTAMP:20260421T084132Z
URL:https://chambermaster.stcloudareachamber.com/events/details/downtown-st-cloud-art-crawl-august-23-2024-11131
END:VEVENT

END:VCALENDAR
