BEGIN:VCALENDAR
VERSION:2.0
PRODID:-//ChamberMaster//Event Calendar 2.0//EN
METHOD:PUBLISH
X-PUBLISHED-TTL:P3D
REFRESH-INTERVAL:P3D
CALSCALE:GREGORIAN
BEGIN:VEVENT
DTSTART:20190111T180000Z
DTEND:20190111T193000Z
X-MICROSOFT-CDO-ALLDAYEVENT:FALSE
SUMMARY:Diversity Council Lunch Bunch 1/11/19
DESCRIPTION:The St. Cloud Area Chamber of Commerce Diversity Council invites you to attend Lunch Bunch. These are quarterly lunches at Chamber member restaurants. Enjoy ethnic food and networking. Please RSVP your attendance to registrations@StCloudAreaChamber.com or 320-656-3826.\n\n\n\nLunch is from Noon-1:30 p.m. Each attendee is responsible paying for their own meal.
X-ALT-DESC;FMTTYPE=text/html:The St. Cloud Area Chamber of Commerce Diversity Council invites you to attend Lunch Bunch. These are quarterly lunches at Chamber member restaurants. Enjoy ethnic food and networking. <em>Please RSVP your attendance to&nbsp\;<a href="mailto:registrations@stcloudareachamber.com?subject=Diversity%20Council%20Lunch%20Bunch">registrations@StCloudAreaChamber.com</a>&nbsp\;or 320-656-3826.</em><br />\n<br />\nLunch is from Noon-1:30 p.m. Each attendee is responsible paying for their own meal.&nbsp\;<br />\n&nbsp\;
LOCATION:Star of India 2812 W. Division St. St. Cloud\, MN 56301
UID:e.2754.6090
SEQUENCE:3
DTSTAMP:20260419T235652Z
URL:https://chambermaster.stcloudareachamber.com/events/details/diversity-council-lunch-bunch-1-11-19-6090
END:VEVENT

END:VCALENDAR
