BEGIN:VCALENDAR
VERSION:2.0
PRODID:-//ChamberMaster//Event Calendar 2.0//EN
METHOD:PUBLISH
X-PUBLISHED-TTL:P3D
REFRESH-INTERVAL:P3D
CALSCALE:GREGORIAN
BEGIN:VEVENT
DTSTART:20211108T140000Z
DTEND:20211108T190000Z
X-MICROSOFT-CDO-ALLDAYEVENT:FALSE
SUMMARY:Discovery Day at Saint John's Prep
DESCRIPTION:Discovery Visit Days\n\nEXPLORE. EXPERIENCE. ENGAGE\n\n \n\nJoin us for a campus tour on one of our Discovery Days! At these special visit days\, your child will shadow a current student during their school day and truly experience our community. Your child will be immersed in classes\, connected with faculty\, and make new friends!\n\n\n\nParents are also invited to attend special sessions to ask questions and gather information about the admission process\, scholarships\, variable tuition\, and meet current families.\n\n \n\nMIDDLE SCHOOL (GRADES 6-8) VISIT DAYS:\n\n \n\n	\n		\n			Monday\, November 8\, 2021\n		\n		\n			Friday\, December 3\, 2021\n		\n		\n			Tuesday\, January 18\, 2022\n		\n		\n			Friday\, February 18\, 2022\n		\n		\n			Friday\, March 25\, 2022\n		\n		\n			Monday\, May 2\, 2022\n		\n	\n\n\n \n\n \n\n(Limited capacity available on each date)\n\n \n\nVisit our website to REGISTER at www.sjprep.net/visit/prep-visit-days\n\n \n\nIndividual tours and visit days are also available. The admission team will work with you on a personalized experience based on the interests and needs of your family.
X-ALT-DESC;FMTTYPE=text/html:<span style="font-family:avenir book"><span style="font-size:20pt">Discovery Visit Days</span></span><br />\n<span style="font-family:avenir book"><span style="font-size:14pt">EXPLORE. EXPERIENCE. ENGAGE</span></span><br />\n&nbsp\;<br />\n<span style="font-family:avenir book">Join us for a campus tour on one of our Discovery Days! At these special visit days\, your child will shadow a current student during their school day and truly experience our community. Your child will be immersed in classes\, connected with faculty\, and make new friends!<br />\n<br />\nParents are also invited to attend special sessions to ask questions and gather information about the admission process\, scholarships\, variable tuition\, and meet current families.</span><br />\n&nbsp\;<br />\n<span style="font-family:avenir book">MIDDLE SCHOOL (GRADES 6-8) VISIT DAYS:</span><br />\n&nbsp\;\n<table align="center" border="0" cellpadding="0" cellspacing="0" style="border-collapse:collapse\; border:none\; color:rgb(0\, 0\, 0)\; font-size:medium">\n	<tbody>\n		<tr>\n			<td style="vertical-align:top\; width:246px"><span style="color:#0d0d0d"><span style="font-family:avenir book">Monday\, November 8\, 2021</span></span></td>\n		</tr>\n		<tr>\n			<td style="vertical-align:top\; width:246px"><span style="color:#0d0d0d"><span style="font-family:avenir book">Friday\, December 3\, 2021</span></span></td>\n		</tr>\n		<tr>\n			<td style="vertical-align:top\; width:246px"><span style="color:#0d0d0d"><span style="font-family:avenir book">Tuesday\, January 18\, 2022</span></span></td>\n		</tr>\n		<tr>\n			<td style="vertical-align:top\; width:246px"><span style="color:#0d0d0d"><span style="font-family:avenir book">Friday\, February 18\, 2022</span></span></td>\n		</tr>\n		<tr>\n			<td style="vertical-align:top\; width:246px"><span style="color:#0d0d0d"><span style="font-family:avenir book">Friday\, March 25\, 2022</span></span></td>\n		</tr>\n		<tr>\n			<td style="vertical-align:top\; width:246px"><span style="color:#0d0d0d"><span style="font-family:avenir book">Monday\, May 2\, 2022</span></span></td>\n		</tr>\n	</tbody>\n</table>\n\n<div>&nbsp\;</div>\n\n<p>&nbsp\;<br />\n<span style="font-family:avenir book">(Limited capacity available on each date)</span><br />\n&nbsp\;</p>\n\n<p><strong><span style="font-family:avenir book"><span style="font-size:14pt">Visit our website to REGISTER at </span></span></strong><a href="http://www.sjprep.net/visit/prep-visit-days" style="color:rgb(5\, 99\, 193)\;"><strong><span style="font-family:avenir book"><span style="font-size:14pt">www.sjprep.net/visit/prep-visit-days</span></span></strong></a><br />\n&nbsp\;<br />\n<em><span style="font-family:avenir book">Individual tours and visit days are also available. The admission team will work with you on a personalized experience based on the interests and needs of your family. &nbsp\;</span></em></p>\n
LOCATION:2280 Water Tower Road Collegeville\, Minnesota 56321
UID:e.2754.7909
SEQUENCE:3
DTSTAMP:20260424T093057Z
URL:https://chambermaster.stcloudareachamber.com/events/details/discovery-day-at-saint-john-s-prep-7909
END:VEVENT

END:VCALENDAR
