BEGIN:VCALENDAR
VERSION:2.0
PRODID:-//ChamberMaster//Event Calendar 2.0//EN
METHOD:PUBLISH
X-PUBLISHED-TTL:P3D
REFRESH-INTERVAL:P3D
CALSCALE:GREGORIAN
BEGIN:VEVENT
DTSTART:20250726T120000Z
DTEND:20250727T020000Z
X-MICROSOFT-CDO-ALLDAYEVENT:FALSE
SUMMARY:Crew for Kids | Benefitting Big Brothers Big Sisters
DESCRIPTION:Join us at Crew Carwash for the 16th annual Crew for Kids! \n\n\n\nOn Saturday\, July 26\, visit any Crew Carwash location\, and Crew will donate 50% of all Ultimate Wash purchases to Big Brothers Big Sisters! Crew will also give a portion of ALL Ultimate Unlimited Club member washes and 100% of all on-site donations to BBBS agencies. Proceeds from the St. Cloud location will benefit BBBS of Central MN.\n\n \n\nAll Crew locations will be open from 7 AM   9 PM. Spinner and friends will visit select locations throughout Minnesota. \n\n\n\nThank you for helping us make a difference in our communities!\n\n\n\n**Rescheduled from July 19
X-ALT-DESC;FMTTYPE=text/html:<div>Join us at Crew Carwash for the 16th annual&nbsp\;<strong>Crew for Kids!</strong>&nbsp\;<br />\n<br />\nOn&nbsp\;<strong>Saturday\, July 26</strong>\, visit any Crew Carwash location\, and Crew will donate 50% of all Ultimate Wash purchases to<strong>&nbsp\;Big Brothers Big Sisters!</strong>&nbsp\;Crew will also give a portion of ALL Ultimate Unlimited Club member washes and 100% of all on-site donations to BBBS agencies. Proceeds from the St. Cloud location will benefit BBBS of Central MN.<br />\n&nbsp\;</div>\n\n<div>All Crew locations will be open from 7 AM &ndash\; 9 PM. Spinner and friends will visit select locations throughout Minnesota.&nbsp\;<br />\n<br />\nThank you for helping us make a difference in our communities!<br />\n<br />\n**Rescheduled from July 19</div>\n
LOCATION:Crew Carwash 4118 Division St. St. Cloud\, MN 56301
UID:e.2754.12303
SEQUENCE:3
DTSTAMP:20260423T021408Z
URL:https://chambermaster.stcloudareachamber.com/events/details/crew-for-kids-benefitting-big-brothers-big-sisters-07-19-2025-12303
END:VEVENT

END:VCALENDAR
