BEGIN:VCALENDAR
VERSION:2.0
PRODID:-//ChamberMaster//Event Calendar 2.0//EN
METHOD:PUBLISH
X-PUBLISHED-TTL:P3D
REFRESH-INTERVAL:P3D
CALSCALE:GREGORIAN
BEGIN:VEVENT
DTSTART:20260824T153000Z
DTEND:20260824T233000Z
X-MICROSOFT-CDO-ALLDAYEVENT:FALSE
SUMMARY:Chamber Open - St. Cloud Country Club - August 24\, 2026
DESCRIPTION:Celebrate 80 years of connection at the Chamber Open Golf Tournament.\n\nSince 1946\, this event has brought the business community together for networking\, relationship-building\, and a great day on the course.\n\n\n\nSign up to be a sponsor or to golf in the 2026 Chamber Open golf event. Click HERE or the REGISTER button to the right to select your sponsorship level or register to golf.\n\n\n\n2026 Chamber Open at St. Cloud Country Club\n\nAugust 24\, 2026 | 10:30 a.m. shotgun start\n\n	18 holes\n	Lunch on the course\n	Sponsor opportunities and games\n	Awards and appetizers after
X-ALT-DESC;FMTTYPE=text/html:<br />\n<br />\n<strong>Celebrate 80 years of connection at the Chamber Open Golf Tournament.</strong><br />\nSince 1946\, this event has brought the business community together for networking\, relationship-building\, and a great day on the course.<br />\n<br />\nSign up to be a sponsor or to golf in the 2026 Chamber Open golf event. Click <strong><a href="https://stcloudareachambermn.chambermaster.com/eventregistration/register/12635" target="_blank">HERE</a>&nbsp\;</strong>or the <strong>REGISTER </strong>button to the right to select your sponsorship level or register to golf.<br />\n<br />\n<strong>2026 Chamber Open at&nbsp\;St. Cloud Country Club</strong><br />\nAugust 24\, 2026 | 10:30 a.m. shotgun start\n<ul>\n	<li>18 holes</li>\n	<li>Lunch on the course</li>\n	<li>Sponsor opportunities and games</li>\n	<li>Awards and appetizers after</li>\n</ul>\n
LOCATION:St. Cloud Country Club 301 Montrose Rd St. Cloud\, MN 56304
UID:e.2754.12635
SEQUENCE:3
DTSTAMP:20260422T144535Z
URL:https://chambermaster.stcloudareachamber.com/events/details/chamber-open-st-cloud-country-club-august-24-2026-12635
END:VEVENT

END:VCALENDAR
