BEGIN:VCALENDAR
VERSION:2.0
PRODID:-//ChamberMaster//Event Calendar 2.0//EN
METHOD:PUBLISH
X-PUBLISHED-TTL:P3D
REFRESH-INTERVAL:P3D
CALSCALE:GREGORIAN
BEGIN:VEVENT
DTSTART:20260506T163000Z
DTEND:20260506T183000Z
X-MICROSOFT-CDO-ALLDAYEVENT:FALSE
SUMMARY:Business Awards Luncheon 5-6-2026
DESCRIPTION:A CELEBRATION OF BUSINESS\n\nEach year\, the St. Cloud Area Chamber of Commerce recognizes the outstanding work of area business leaders\, owners\, and changemakers in Central Minnesota at the Business Awards Luncheon. \n\n \nMeet Our 2026 Award Winners!\n\n\n\n	2026 Small Business Owners of the Year: Jason Kath and Adam Preusser\, Motor Works Auto Repair\n	2026 Business Central Mark of Excellence Family-Owned Business: Brandon Testa\, House of Pizza\n	2026 Entrepreneurial Success Award: Guy Magno\, Ryan Schoepf and Taylor Feero\, Switchboard\n\n\n\n\n\n\nREAD THEIR STORIES\n\n\n\n\n\nJoin us to celebrate them on May 6th\, 2026 at the Park Event Center!\n\n\n	11:30 a.m. - Doors open for networking\n	12:00 p.m. - Lunch is served\n	12:30 - 1:30 p.m. - Program\n\nSPONSORSHIP INFO
X-ALT-DESC;FMTTYPE=text/html:<br />\n<span style="font-size:14px\;"><strong>A CELEBRATION OF BUSINESS</strong></span><br />\n<span style="color:black\;">Each year\, the St. Cloud Area Chamber of Commerce recognizes the outstanding work of area business leaders\, owners\, and changemakers in Central Minnesota at the Business Awards Luncheon.&nbsp\;</span><br />\n&nbsp\;\n<div><span style="font-size:14px\;"><b>Meet Our 2026 Award Winners!</b></span></div>\n\n<div>\n<ul>\n	<li><b>2026 Small Business Owners of the Year: </b>Jason Kath and Adam Preusser\, <em>Motor Works Auto Repair</em></li>\n	<li><strong>2026 Business Central Mark of Excellence&nbsp\;</strong><b>Family-Owned Business</b>: Brandon Testa\, <em>House of Pizza</em></li>\n	<li><b>2026 Entrepreneurial Success Award:&nbsp\;</b>Guy Magno\, Ryan Schoepf and Taylor Feero\, <em>Switchboard</em></li>\n</ul>\n</div>\n\n<div>\n<div><br />\n<a href="https://stcloudareachamber.com/programs/networking-special-events/business-awards-luncheon/"><strong>READ THEIR STORIES</strong></a><br />\n<br />\n<br />\n<span style="font-size:14px\;"><strong>Join us to celebrate them on May 6th\, 2026 at the Park Event Center!</strong></span>\n\n<ul>\n	<li>11:30 a.m. - Doors open for networking</li>\n	<li>12:00 p.m. - Lunch is served</li>\n	<li>12:30 - 1:30 p.m. - Program</li>\n</ul>\n<a href="https://stcloudareachamber.com/programs/networking-special-events/business-awards-luncheon/sponsors/"><strong>SPONSORSHIP INFO</strong></a></div>\n</div>\n<br />\n&nbsp\;
LOCATION:The Park Event Center 500 Division Street Waite Park\, MN 56387-1334
UID:e.2754.12579
SEQUENCE:3
DTSTAMP:20260422T083241Z
URL:https://chambermaster.stcloudareachamber.com/events/details/business-awards-luncheon-5-6-2026-12579
END:VEVENT

END:VCALENDAR
