BEGIN:VCALENDAR
VERSION:2.0
PRODID:-//ChamberMaster//Event Calendar 2.0//EN
METHOD:PUBLISH
X-PUBLISHED-TTL:P3D
REFRESH-INTERVAL:P3D
CALSCALE:GREGORIAN
BEGIN:VEVENT
DTSTART:20190613T213000Z
DTEND:20190613T233000Z
X-MICROSOFT-CDO-ALLDAYEVENT:FALSE
SUMMARY:Business After Hours 6/13/2019
DESCRIPTION:Business After Hours is an opportunity to network and socialize with other Chamber members in an informal setting.  Because there is no program\, you have the freedom to come and go as your schedule permits. You can expect a variety of light snacks and beverages.
X-ALT-DESC;FMTTYPE=text/html:<span style="color:windowtext\;"><span style="font-family:calibri\,sans-serif\;"><span style="font-size:12.0pt\;">Business After Hours is an opportunity to network and socialize with other Chamber members in an informal setting. &nbsp\;Because there is no program\, you have the freedom to come and go as your schedule permits. You can expect a variety of light snacks and beverages.&nbsp\;&nbsp\;</span></span></span><br />\n<br />\n&nbsp\;
LOCATION:D.J. Bitzan Jewelers 203 Waite Ave. N\, Waite Park
UID:e.2754.5979
SEQUENCE:3
DTSTAMP:20260422T030803Z
URL:https://chambermaster.stcloudareachamber.com/events/details/business-after-hours-6-13-2019-5979
END:VEVENT

END:VCALENDAR
