BEGIN:VCALENDAR
VERSION:2.0
PRODID:-//ChamberMaster//Event Calendar 2.0//EN
METHOD:PUBLISH
X-PUBLISHED-TTL:P3D
REFRESH-INTERVAL:P3D
CALSCALE:GREGORIAN
BEGIN:VEVENT
DTSTART:20251029T160000Z
DTEND:20251029T190000Z
X-MICROSOFT-CDO-ALLDAYEVENT:FALSE
SUMMARY:Breast Cancer Fundraiser Luncheon
DESCRIPTION:This is an open house style luncheon\; we will be collecting free will donations for the Coborn Cancer Center. This is also an Opportunity to bring our community together! Please Bring a friend or colleague. RSVP with Link provided.
X-ALT-DESC;FMTTYPE=text/html:This is an open house style luncheon\; we will be collecting free will donations for the Coborn Cancer Center. This is also an Opportunity to bring our community together! Please Bring a friend or colleague. RSVP with Link provided.&nbsp\;
LOCATION:
UID:e.2754.12391
SEQUENCE:3
DTSTAMP:20260422T215616Z
URL:https://chambermaster.stcloudareachamber.com/events/details/breast-cancer-fundraiser-luncheon-12391
END:VEVENT

END:VCALENDAR
