BEGIN:VCALENDAR
VERSION:2.0
PRODID:-//ChamberMaster//Event Calendar 2.0//EN
METHOD:PUBLISH
X-PUBLISHED-TTL:P3D
REFRESH-INTERVAL:P3D
CALSCALE:GREGORIAN
BEGIN:VEVENT
DTSTART:20190605T220000Z
DTEND:20190606T000000Z
X-MICROSOFT-CDO-ALLDAYEVENT:FALSE
SUMMARY:Bags & Brew Tournament 6-5-2019
DESCRIPTION:Bags & Brew Cornhole Tournament\n\n\n\nA fun 16 team bean bag tournament fundraiser for the Chamber's Foundation.\n\nThis is a rain or shine event.  No refunds will be available for this fundraiser.\n\n\n\nTeams and sponorships are SOLD OUT for this event\, but we hope you will still join us as a spectator! This event is being run in conjunction with the Chamber's 150th Tending for a Cause inside Beaver Island Brewing Co. Pizza will be available for $2 per slice.\n\n\n\nPARKING\n\nParking is available in the City Hall Parking lot\, one block East from Beaver Island Brewing Co. Street parking is limited\, but also an option.
X-ALT-DESC;FMTTYPE=text/html:<strong><span style="background:white\;"><span style="color:#444444\;"><span style="font-family:arial\,sans-serif\;"><span style="font-size:10.5pt\;">Bags &amp\; Brew Cornhole Tournament</span></span></span></span></strong><br style="box-sizing:content-box\;bottom:auto\;content:normal\;empty-cells:show\;font-variant-ligatures:normal\;font-variant-caps:normal\;font-variant-numeric:inherit\;font-variant-east-asian:inherit\;font-stretch:inherit\;line-height:inherit\;max-height:none\;max-width:none\;min-height:initial\;min-width:initial\;opacity:1\;outline-offset:0px\;resize:none\;text-overflow:clip\;word-break:inherit\;overflow-wrap:inherit\;border-radius:0px\;orphans:2\;widows:2\;-webkit-text-stroke-width:0px\;float:none\;overflow:visible\;right:auto\;visibility:inherit\;word-spacing:0px\;z-index:auto\;" />\n<br />\n<span style="color:#444444\;"><span style="font-family:arial\,sans-serif\;"><span style="font-size:10.5pt\;"><span style="background:white\;"><span style="font-variant-ligatures:normal\;font-variant-caps:normal\;orphans:2\;widows:2\;-webkit-text-stroke-width:0px\;text-decoration-style:initial\;float:none\;word-spacing:0px\;">A fun 16 team bean bag tournament fundraiser for the <strong><a href="https://www.stcloudareachamber.com/St-Cloud-Area-Chamber-Foundation" target="_blank">Chamber&#39\;s Foundation</a></strong>.<br />\nThis is a rain or shine event.&nbsp\; No refunds will be available for this fundraiser.</span></span></span></span></span><br />\n<br />\nTeams and sponorships are SOLD OUT for this event\, but we hope you will still join us as a spectator! This event is being run in conjunction with the Chamber&#39\;s 150th <strong><a href="https://chambermaster.stcloudareachamber.com/events/details/tending-for-a-cause-6465" target="_blank">Tending for a Cause</a></strong> inside Beaver Island Brewing Co. Pizza will be available for $2 per slice.<br />\n<br />\n<strong>PARKING</strong><br />\nParking is available in the City Hall Parking lot\, one block East from Beaver Island Brewing Co. Street parking is limited\, but also an option.
LOCATION:Beaver Island Brewing Co. in the back parking lot. 216 6th Ave. S\, St. Cloud
UID:e.2754.6283
SEQUENCE:3
DTSTAMP:20260422T030830Z
URL:https://chambermaster.stcloudareachamber.com/events/details/bags-brew-tournament-6-5-2019-6283
END:VEVENT

END:VCALENDAR
