BEGIN:VCALENDAR
VERSION:2.0
PRODID:-//ChamberMaster//Event Calendar 2.0//EN
METHOD:PUBLISH
X-PUBLISHED-TTL:P3D
REFRESH-INTERVAL:P3D
CALSCALE:GREGORIAN
BEGIN:VEVENT
DTSTART:20220817T220000Z
DTEND:20220818T010000Z
X-MICROSOFT-CDO-ALLDAYEVENT:FALSE
SUMMARY:Bags & Brew Cornhole Tournament Tour 2022 - August 17\, 2022
DESCRIPTION:Bags & Brew Cornhole Tournament Tour\n\n\n\nJoin us for Bags & Brew August 17\, 2022 from 5-8 p.m. at Back Shed Brewing as the St. Cloud Area Chamber of Commerce raises money for the Chamber Foundation to help area students and our future workforce through enrichment programs. \n\n\n\nWe are hosting a 20-team double elimination bean bag tournament in the back parking lot to add to our fundraiser. Tournament from 5-8p.m.\n\n\n\n20-team double elimination cornhole bag tournament.  The main bracket winners receive $200 CASH and the second chance bracket winners will receive 2 Back Shed Growlers. Rain or shine. Each team will receive 2 free drink tickets.
X-ALT-DESC;FMTTYPE=text/html:<br />\n<br />\n<br />\n<span style="font-family:comic sans ms\;"><strong><span style="font-size:16px\;">Bags &amp\; Brew Cornhole Tournament Tour</span></strong></span><br />\n<br />\nJoin us for Bags &amp\; Brew<strong>&nbsp\;August 17\, 2022 from 5-8 p.m.</strong> at Back Shed Brewing as the St. Cloud Area Chamber of Commerce raises money for the Chamber Foundation to help area students and our future workforce through enrichment programs.&nbsp\;<br />\n<br />\nWe are hosting a 20-team double elimination bean bag tournament in the back parking lot to add to our fundraiser. <strong>Tournament from 5-8p.m.</strong><br />\n<br />\n20-team double elimination cornhole bag tournament.&nbsp\; The main bracket winners receive <strong>$200 CASH</strong> and the second chance bracket winners will receive <em>2 Back Shed Growlers</em>. Rain or shine. Each team will receive 2 free drink tickets.&nbsp\;
LOCATION:Back Shed Brewing 624 Sundial Dr.\, Waite Park
UID:e.2754.8575
SEQUENCE:3
DTSTAMP:20260421T094212Z
URL:https://chambermaster.stcloudareachamber.com/events/details/bags-brew-cornhole-tournament-tour-2022-august-17-2022-8575
END:VEVENT

END:VCALENDAR
