BEGIN:VCALENDAR
VERSION:2.0
PRODID:-//ChamberMaster//Event Calendar 2.0//EN
METHOD:PUBLISH
X-PUBLISHED-TTL:P3D
REFRESH-INTERVAL:P3D
CALSCALE:GREGORIAN
BEGIN:VEVENT
DTSTART:20251016T150000Z
DTEND:20251018T180000Z
X-MICROSOFT-CDO-ALLDAYEVENT:FALSE
SUMMARY:BAG OF BOOKS SALE
DESCRIPTION:BAG OF BOOKS SALE\n\n			OCTOBER 16-18\, 2025\n			\n		\n	\n\nThursday October 16    10-8pm\n\nFriday October 17        10-6pm\n\nSaturday October 18     10-1pm\n\n FILL A BAG $8.00 or BOX OF BOOKS $15\n\nSPECIAL PRICING SATURDAY\n\nChildren's\, Young Adult\, Fiction & Non- Fiction Books. Vintage & Sets. Movies\, Music\, Audio Books and More!
X-ALT-DESC;FMTTYPE=text/html:<table cellpadding="0" cellspacing="0">\n	<tbody>\n		<tr>\n			<td style="vertical-align:top">\n			<div><span style="font-size:16px"><strong><span style="color:black"><span style="font-family:arial">BAG OF BOOKS SALE</span></span></strong></span><br />\n			<span style="font-size:16px"><strong><span style="color:black"><span style="font-family:arial">O</span></span></strong><strong><span style="color:black"><span style="font-family:arial">CTOBER </span></span></strong><strong><span style="color:black"><span style="font-family:arial">16-18\, 2025</span></span></strong></span></div>\n			</td>\n		</tr>\n	</tbody>\n</table>\n<span style="font-size:14px"><strong><span style="color:black"><span style="font-family:arial">Thursday October 16&nbsp\;&nbsp\;&nbsp\; 10-8pm</span></span></strong><br />\n<strong><span style="color:black"><span style="font-family:arial">Friday October 17&nbsp\;&nbsp\; &nbsp\;&nbsp\;&nbsp\;&nbsp\; 10-6pm</span></span></strong><br />\n<strong><span style="color:black"><span style="font-family:arial">Saturday October 18&nbsp\;&nbsp\;&nbsp\;&nbsp\; 10-1pm</span></span></strong></span><br />\n<u>&nbsp\;</u><span style="font-size:14px"><u><span style="color:black"><span style="font-family:arial">FILL A BAG&mdash\;$8.00 or BOX OF BOOKS&mdash\;$15</span></span></u><br />\n<span style="color:black"><span style="font-family:arial"><u>SPECIAL PRICING SATURDAY</u></span></span><br />\n<strong><span style="color:black"><span style="font-family:arial">Children&rsquo\;s\, Young Adult\, Fiction &amp\; Non- Fiction Books. Vintage &amp\; Sets. Movies\, Music\, Audio Books and More!</span></span></strong></span>&nbsp\;<br />\n<br />\n&nbsp\;<br />\n&nbsp\;
LOCATION:St. Cloud MN Library Mississippi Room
UID:e.2754.12384
SEQUENCE:3
DTSTAMP:20260422T215752Z
URL:https://chambermaster.stcloudareachamber.com/events/details/bag-of-books-sale-12384
END:VEVENT

END:VCALENDAR
