BEGIN:VCALENDAR
VERSION:2.0
PRODID:-//ChamberMaster//Event Calendar 2.0//EN
METHOD:PUBLISH
X-PUBLISHED-TTL:P3D
REFRESH-INTERVAL:P3D
CALSCALE:GREGORIAN
BEGIN:VEVENT
DTSTART:20190601T160000Z
DTEND:20190601T200000Z
X-MICROSOFT-CDO-ALLDAYEVENT:FALSE
SUMMARY:2nd Annual Landwehr Charity Car Event
DESCRIPTION:Come join us for Landwehr's 2nd Annual Charity Car Event and Silent Auction! For the 2nd year in a row we will be partnering with Catholic Charities and raising funds and awareness for the Homeless Youth in Central Minnesota. Bring your car to show off in the paved parking lot\, hang out with the family by the fish pond or play a round of mini golf with friends - and more! We would love to see you there!\n\n\n\nCan't make it? No problem! We are accepting donations and/or silent auction items to make the biggest impact possible for the youth in need. Items and donations can be dropped off or mailed to Landwehr Tax & Accounting's office: 62 10th Ave S\, Waite Park\, MN 56387\n\n\n\nRSVP by Friday\, May 24th  - shawn@landwehrtax.com\; 320-203-0429
X-ALT-DESC;FMTTYPE=text/html:Come join us for Landwehr&#39\;s 2nd Annual Charity Car Event and Silent Auction! For the 2nd year in a row we will be partnering with Catholic Charities and raising funds and awareness for the Homeless Youth in Central Minnesota. Bring your car to show off in the paved parking lot\, hang out with the family by the fish pond or play a round of mini golf with friends - and more! We would love to see you there!<br />\n<br />\nCan&#39\;t make it? No problem! We are accepting donations and/or silent auction items to make the biggest impact possible for the youth in need. Items and donations can be dropped off or mailed to Landwehr Tax &amp\; Accounting&#39\;s office: 62 10th Ave S\, Waite Park\, MN 56387<br />\n<br />\nRSVP by Friday\, May 24th&nbsp\; - shawn@landwehrtax.com\; 320-203-0429
LOCATION:Location: Molitor's Quarry Grill & Bar 3517 5th Ave NE Sauk Rapids\, MN 56379
UID:e.2754.6423
SEQUENCE:3
DTSTAMP:20260422T031409Z
URL:https://chambermaster.stcloudareachamber.com/events/details/2nd-annual-landwehr-charity-car-event-6423
END:VEVENT

END:VCALENDAR
