BEGIN:VCALENDAR
VERSION:2.0
PRODID:-//ChamberMaster//Event Calendar 2.0//EN
METHOD:PUBLISH
X-PUBLISHED-TTL:P3D
REFRESH-INTERVAL:P3D
CALSCALE:GREGORIAN
BEGIN:VEVENT
DTSTART:20221117T150000Z
DTEND:20221117T193000Z
X-MICROSOFT-CDO-ALLDAYEVENT:FALSE
SUMMARY:2022 Economic Summit: Time For A Bold Agenda
DESCRIPTION:What is our economic outlook and what can lawmakers do to help spur economic growth? Join us and hear some bold ideas for positioning Minnesota to lead the nation in providing opportunities for business. \n\n \n\nThe outcome of this year's elections will determine who is making decisions that will impact business this legislative session and beyond. Hear from business leaders about policy changes they are seeking to help grow their businesses and succeed in Minnesota.\n\n\n\nView details here
X-ALT-DESC;FMTTYPE=text/html:<p style="box-sizing: border-box\; margin: 0in\; padding: 0px\; border: 0px\; font-size: 16px\; font-family: &quot\;Proxima Nova&quot\;\, Arial\, sans-serif\; vertical-align: baseline\; color: rgb(33\, 37\, 41)\; background-color: rgb(255\, 255\, 255)\; text-align: center\;">&nbsp\;</p>\n\n<p style="box-sizing: border-box\; margin: 0in\; padding: 0px\; border: 0px\; font-size: 16px\; font-family: &quot\;Proxima Nova&quot\;\, Arial\, sans-serif\; vertical-align: baseline\; color: rgb(33\, 37\, 41)\; background-color: rgb(255\, 255\, 255)\;"><span style="box-sizing: border-box\; margin: 0px\; padding: 0px\; border: 0px\; font-weight: inherit\; font-style: inherit\; font-family: inherit\; vertical-align: baseline\;"><span style="box-sizing: border-box\; margin: 0px\; padding: 0px\; border: 0px\; font-weight: inherit\; font-style: inherit\; font-family: Arial\, Helvetica\, sans-serif\; vertical-align: baseline\;"><span style="box-sizing: border-box\; margin: 0px\; padding: 0px\; border: 0px\; font-weight: inherit\; font-style: inherit\; font-family: inherit\; vertical-align: baseline\; line-height: 12.6pt\;"><span style="box-sizing: border-box\; margin: 0px\; padding: 0px\; border: 0px\; font-weight: inherit\; font-style: inherit\; font-family: inherit\; vertical-align: baseline\; color: rgb(57\, 61\, 71)\;">What is our economic outlook and what can lawmakers do to help spur economic growth? Join us and hear some bold ideas for positioning Minnesota to lead the nation in providing opportunities for business.&nbsp\;<br style="box-sizing: border-box\;" />\n&nbsp\;<br style="box-sizing: border-box\;" />\nThe outcome of this year&rsquo\;s elections will determine who is making decisions that will impact business this legislative session and beyond.&nbsp\;</span></span><span style="box-sizing: border-box\; margin: 0px\; padding: 0px\; border: 0px\; font-weight: inherit\; font-style: inherit\; font-family: inherit\; vertical-align: baseline\; background: yellow\;"><span style="box-sizing: border-box\; margin: 0px\; padding: 0px\; border: 0px\; font-weight: inherit\; font-style: inherit\; font-family: inherit\; vertical-align: baseline\; color: rgb(57\, 61\, 71)\;"><span style="box-sizing: border-box\; margin: 0px\; padding: 0px\; border: 0px\; font-weight: inherit\; font-style: inherit\; font-family: inherit\; vertical-align: baseline\; background-color: rgb(255\, 255\, 255)\;">Hear from business leaders about policy changes they are seeking to help grow their businesses and succeed in Minnesota.</span></span><br />\n<br />\n<span style="box-sizing: border-box\; margin: 0px\; padding: 0px\; border: 0px\; font-weight: inherit\; font-style: inherit\; font-family: inherit\; vertical-align: baseline\;"><span style="box-sizing: border-box\; margin: 0px\; padding: 0px\; border: 0px\; font-weight: inherit\; font-style: inherit\; font-family: inherit\; vertical-align: baseline\; background-color: rgb(255\, 255\, 255)\;"><em><strong><a href="https://member.mnchamber.com/events/2022-Economic-Summit-1093393/details" target="_blank"><span style="color:#0000FF\;">View details here</span></a></strong></em></span></span></span></span></span></p>\n
LOCATION:Renaissance Minneapolis Hotel - The Depot 225 3rd Ave S Minneapolis\, MN 55401
UID:e.2754.10153
SEQUENCE:3
DTSTAMP:20260424T042354Z
URL:https://chambermaster.stcloudareachamber.com/events/details/2022-economic-summit-time-for-a-bold-agenda-10153
END:VEVENT

END:VCALENDAR
