BEGIN:VCALENDAR
VERSION:2.0
PRODID:-//ChamberMaster//Event Calendar 2.0//EN
METHOD:PUBLISH
X-PUBLISHED-TTL:P3D
REFRESH-INTERVAL:P3D
CALSCALE:GREGORIAN
BEGIN:VEVENT
DTSTART:20201008T130000Z
DTEND:20201008T140000Z
X-MICROSOFT-CDO-ALLDAYEVENT:FALSE
SUMMARY:2020 St. Cloud City Council In-Person/ZOOM Candidates Forum 10/8/20
DESCRIPTION:The St. Cloud Area Chamber of Commerce present a Candidates' Forum for St. Cloud City Council.  Please register to attend this online forum via ZOOM or our limited in-person meeting. There is no fee to attend but you must register as seating is limited to 20.\n\n\n\nChamber President Teresa Bohnen will moderate this forum\, which will focus on business issues for the City of St. Cloud and information abut each candidate and what their policies/plans are. Join via ZOOM or in-person in one of the 20 limited seats in our Chamber Coldspring Conference Room.
X-ALT-DESC;FMTTYPE=text/html:The St. Cloud Area Chamber of Commerce present a Candidates&rsquo\; Forum for St. Cloud City Council.&nbsp\; Please register to attend this online forum via ZOOM or our limited in-person meeting. There is no fee to attend but you must register as seating is limited to 20.<br />\n<br />\nChamber President Teresa Bohnen will moderate this forum\,&nbsp\;which will focus on business issues for the City of St. Cloud and information abut each candidate and what their policies/plans are. Join via ZOOM or in-person in one of the 20 limited seats in our Chamber Coldspring Conference Room.
LOCATION:Attendance via In-person St. Cloud Area Chamber of Commerce Office - Coldspring Conference Room 1411 W St. Germain St. Suite 101 St. Cloud\, MN 56301 Attendance via ZOOM Meeting You will receive the ZOOM meeting login information and link in your online registration confirmation.
UID:e.2754.7507
SEQUENCE:3
DTSTAMP:20260421T175045Z
URL:https://chambermaster.stcloudareachamber.com/events/details/2020-st-cloud-city-council-in-person-zoom-candidates-forum-10-8-20-7507
END:VEVENT

END:VCALENDAR
